BEGIN:VCALENDAR
VERSION:2.0
PRODID:-//Radsport Dinkelscherben e.V. - ECPv6.15.20//NONSGML v1.0//EN
CALSCALE:GREGORIAN
METHOD:PUBLISH
X-ORIGINAL-URL:https://rsdd.de
X-WR-CALDESC:Veranstaltungen für Radsport Dinkelscherben e.V.
REFRESH-INTERVAL;VALUE=DURATION:PT1H
X-Robots-Tag:noindex
X-PUBLISHED-TTL:PT1H
BEGIN:VTIMEZONE
TZID:Europe/Paris
BEGIN:DAYLIGHT
TZOFFSETFROM:+0100
TZOFFSETTO:+0200
TZNAME:CEST
DTSTART:20210328T010000
END:DAYLIGHT
BEGIN:STANDARD
TZOFFSETFROM:+0200
TZOFFSETTO:+0100
TZNAME:CET
DTSTART:20211031T010000
END:STANDARD
BEGIN:DAYLIGHT
TZOFFSETFROM:+0100
TZOFFSETTO:+0200
TZNAME:CEST
DTSTART:20220327T010000
END:DAYLIGHT
BEGIN:STANDARD
TZOFFSETFROM:+0200
TZOFFSETTO:+0100
TZNAME:CET
DTSTART:20221030T010000
END:STANDARD
BEGIN:DAYLIGHT
TZOFFSETFROM:+0100
TZOFFSETTO:+0200
TZNAME:CEST
DTSTART:20230326T010000
END:DAYLIGHT
BEGIN:STANDARD
TZOFFSETFROM:+0200
TZOFFSETTO:+0100
TZNAME:CET
DTSTART:20231029T010000
END:STANDARD
END:VTIMEZONE
BEGIN:VTIMEZONE
TZID:Europe/Paris
BEGIN:DAYLIGHT
TZOFFSETFROM:+0100
TZOFFSETTO:+0200
TZNAME:CEST
DTSTART:20210328T010000
END:DAYLIGHT
BEGIN:STANDARD
TZOFFSETFROM:+0200
TZOFFSETTO:+0100
TZNAME:CET
DTSTART:20211031T010000
END:STANDARD
BEGIN:DAYLIGHT
TZOFFSETFROM:+0100
TZOFFSETTO:+0200
TZNAME:CEST
DTSTART:20220327T010000
END:DAYLIGHT
BEGIN:STANDARD
TZOFFSETFROM:+0200
TZOFFSETTO:+0100
TZNAME:CET
DTSTART:20221030T010000
END:STANDARD
BEGIN:DAYLIGHT
TZOFFSETFROM:+0100
TZOFFSETTO:+0200
TZNAME:CEST
DTSTART:20230326T010000
END:DAYLIGHT
BEGIN:STANDARD
TZOFFSETFROM:+0200
TZOFFSETTO:+0100
TZNAME:CET
DTSTART:20231029T010000
END:STANDARD
END:VTIMEZONE
BEGIN:VEVENT
DTSTART;TZID=Europe/Paris:20220409T000000
DTEND;TZID=Europe/Paris:20220409T235959
DTSTAMP:20260423T103558
CREATED:20211101T123020Z
LAST-MODIFIED:20220330T155637Z
UID:700-1649462400-1649548799@rsdd.de
SUMMARY:Rennrad Trainingsauftakt 2022
DESCRIPTION:Die kalte Jahreszeit ist nun hoffentlich vorbei und wir starten wieder mit unseren regelmäßigen Rennrad Trainings. \n\n\n\nZur Erinnerung\, hier nochmal unsere Trainingszeiten: \n\n\n\n\n\nMittwoch17:45 UhrGruppe 1+2Donnerstag17:45 UhrGruppe 3Samstag13:30 UhrGruppe 1+2+3\n\n\n\n\n\n\n\n\n\nDie geplanten Trainingsstrecken findet Ihr hier. \n\n\n\nWir freuen uns auf eine zahlreiche Teilnahme.
URL:https://rsdd.de/event/rennrad-trainingsauftakt-2022/
LOCATION:Dinkelscherben\, Kohlstattstr 2\, Dinkelscherben\, 86424\, Deutschland
CATEGORIES:Rennradtouren
ATTACH;FMTTYPE=image/png:https://rsdd.de/wp-content/uploads/2021/11/rennrad_icon.png
END:VEVENT
BEGIN:VEVENT
DTSTART;TZID=Europe/Paris:20220423T080000
DTEND;TZID=Europe/Paris:20220430T170000
DTSTAMP:20260423T103558
CREATED:20211101T165618Z
LAST-MODIFIED:20211213T065830Z
UID:764-1650700800-1651338000@rsdd.de
SUMMARY:Rennrad Trainingslager
DESCRIPTION:Nach 2013\, 2016 und 2019 schlagen wir zum bereits vierten Mal unser Trainingslager in Fratta Terme auf.  Das Grand Hotel Fratta Terme bietet uns: \n\n\n\nHalbpensionvergünstigten Eintritt (15% Nachlass) in das hoteleigene Thermalbadvergünstigter Preis für Massagen (10% Nachlass)\n\n\n\nAus den Erfahrungen der letzten Jahre haben wir eine große Auswahl an Touren unterschiedlicher Länge und Schwierigkeit. Von kürzeren und flachen Routen ans Meer bis zur Nove Colli Strecke mit 200km und 4000hm stehen uns alle Varianten zur Verfügung. \n\n\n\n\n\n\n\n\n\n\n\nDie Abbildung zeigt den Radius an\, welcher mit Touren von ca. 120 km Länge erreicht wird. Richtung Osten und Norden erstreckt sich die Po-Ebene mit komplett flachem Terrain. Im Süden und Westen gelangt man schnell in die Berge.  \n\n\n\n\n\n\n\n\n\nDer Ort Fratta Terme selbst hat nicht allzu viel zu bieten\, aber wer einen kulturellen Ruhetag einlegen möchte\, der ist mit dem Auto schnell in Ravenna oder Rimini. Auch Florenz ist mit ca. 80 km nicht allzu weit. \n\n\n\nDetails\n\n\n\n\n\nTourguide:Hermann ZottTourenart:leichte bis schwere Rennrad TourenStrecke:jeden Tag unterschiedliche Strecken in min. 2 LeistungsstufenTreffpunkt:individuelle Anfahrt nach Fratta TermeAnmeldung:bis 15.01.2022 (verbindlich) bei hermann@rsdd.deLeistungen:Hotel inkl. Halbpensiongeführte Touren in unterschiedlichen LeistungsklassenAnreise:Anreise in privat organisierten FahrgemeinschaftenKosten:455 € pP im DZ (zzgl. Kurtaxe);  100 € Anzahlung erforderlich
URL:https://rsdd.de/event/rennrad-trainingslager_2022/
LOCATION:Fratta Terme\, Via Loreta 238\, Fratta Terme\, 47032\, Italien
CATEGORIES:Rennradtouren
ATTACH;FMTTYPE=image/png:https://rsdd.de/wp-content/uploads/2021/11/rennrad_icon.png
END:VEVENT
END:VCALENDAR