BEGIN:VCALENDAR
VERSION:2.0
PRODID:-//Radsport Dinkelscherben e.V. - ECPv6.15.20//NONSGML v1.0//EN
CALSCALE:GREGORIAN
METHOD:PUBLISH
X-WR-CALNAME:Radsport Dinkelscherben e.V.
X-ORIGINAL-URL:https://rsdd.de
X-WR-CALDESC:Veranstaltungen für Radsport Dinkelscherben e.V.
REFRESH-INTERVAL;VALUE=DURATION:PT1H
X-Robots-Tag:noindex
X-PUBLISHED-TTL:PT1H
BEGIN:VTIMEZONE
TZID:Europe/Paris
BEGIN:DAYLIGHT
TZOFFSETFROM:+0100
TZOFFSETTO:+0200
TZNAME:CEST
DTSTART:20210328T010000
END:DAYLIGHT
BEGIN:STANDARD
TZOFFSETFROM:+0200
TZOFFSETTO:+0100
TZNAME:CET
DTSTART:20211031T010000
END:STANDARD
BEGIN:DAYLIGHT
TZOFFSETFROM:+0100
TZOFFSETTO:+0200
TZNAME:CEST
DTSTART:20220327T010000
END:DAYLIGHT
BEGIN:STANDARD
TZOFFSETFROM:+0200
TZOFFSETTO:+0100
TZNAME:CET
DTSTART:20221030T010000
END:STANDARD
BEGIN:DAYLIGHT
TZOFFSETFROM:+0100
TZOFFSETTO:+0200
TZNAME:CEST
DTSTART:20230326T010000
END:DAYLIGHT
BEGIN:STANDARD
TZOFFSETFROM:+0200
TZOFFSETTO:+0100
TZNAME:CET
DTSTART:20231029T010000
END:STANDARD
END:VTIMEZONE
BEGIN:VEVENT
DTSTART;TZID=Europe/Paris:20220606T000000
DTEND;TZID=Europe/Paris:20220606T235959
DTSTAMP:20260423T073149
CREATED:20211105T181332Z
LAST-MODIFIED:20220604T154647Z
UID:1113-1654473600-1654559999@rsdd.de
SUMMARY:Rennrad Planseerunde
DESCRIPTION:Nach individueller Anfahrt treffen wir uns am Ortseingang Steingaden zu dieser landschaftlich wunderschönen Tour durch die Voralpen. \n\n\n\n\n\nUnsere Runde führt uns von Steingaden über Füssen und Reutte zum Plansee. Von dort aus geht es weiter nach Ober- und Unterammergau\, vorbei an der Wieskirche zurück zu unserem Ausgangspunkt.Für die Strecke: klickt entweder auf den Streckennamen rechts in der Karte oder verwendet diesen Link: https://connect.garmin.com/modern/course/108796661 \n\n\n\n\n\n\n\n\n\n\n\nBitte gebt uns einige Tage vor der Tour Bescheid\, wenn Ihr mitfahren wollt. Das erleichtert uns die Planung der Gruppen und der notwendigen Tourguides. \n\n\n\n \n\n\n\nBeim RSDD Team fahren Spaß und Teamgeist immer mit ! ! !! ! ! Auch Nichtmitglieder sind herzlich willkommen ! ! ! \n\n\n\n\n\n\n\nDetails\n\n\n\n\n\nTourguide:Joachim GlinkTourenart:mittelschwere RennradtourStrecke:120km / 1000hmTreffpunkt:9 Uhr Abfahrt\, SteingadenAnmeldung:bitte bei Joachim melden (joachim@rsdd.de)Leistungen:Kosten:
URL:https://rsdd.de/event/rennrad-planseerunde/
CATEGORIES:Rennradtouren
ATTACH;FMTTYPE=image/png:https://rsdd.de/wp-content/uploads/2021/11/rennrad_icon.png
END:VEVENT
BEGIN:VEVENT
DTSTART;TZID=Europe/Paris:20220616T000000
DTEND;TZID=Europe/Paris:20220619T235959
DTSTAMP:20260423T073149
CREATED:20211102T180446Z
LAST-MODIFIED:20220529T125934Z
UID:812-1655337600-1655683199@rsdd.de
SUMMARY:Rennrad Giro Südtirol (Tramin)
DESCRIPTION:Giro – Südtirol (Tramin) \n\n\n\nDieses Jahr wollen wir unseren Giro wieder in südlichen Gefilden durchführen und haben uns für das Rennrad Revier schlechthin entschieden: Südtirol mit Ausgangspunkt Tramin in der Nähe vom Kalterer See \n\n\n\nIn dieser Region können wir alle möglichen Touren fahren: flache Runden entlang der Etsch oder gemütlich auf einen Cappucciono nach Bozen oder Meran.Aber auch alle\, die reichlich Höhenmeter machen wollen kommen hier auf ihre Kosten: Berge wie der Monte Bondone oder auch das Val di Fassa mit Pässen wie dem Passo Manghen sind nicht weit weg. \n\n\n\nUntergebracht sind im Hotel Arndt am Ortsrand von Tramin\, das auf Rennradfahrer spezialisiert ist (u.a. gelistet auf roadbike-holidays.com).Somit haben wir einen verschließbaren Fahrradraum inkl. Videoüberwachung und auch eine Werkstattecke sowie einen Waschplatz verfügbar\, damit die Räder auch jeden Tag schön glänzen können.Außerdem steht uns der Chef des Hauses sicherlich mit dem ein oder anderen Geheimtipp für Touren zur Verfügung. \n\n\n\nNach der Tour können wir noch einen 10m Pool genießen oder bei kühlerem Wetter uns auch in der Sauna aufwärmen. \n\n\n\nKulinarisch sollten wir auch nicht zu kurz kommen; neben einem reichhaltigen Frühstück bietet das Hotel unter Tags kleine Südtiroler Spezialitäten an und abends gehen wir in Tramin zum Essen.Da wir auf Grund der Corona Situation möglichst flexibel bleiben wollen werden wir bei diesem Giro keinen gemeinsamen Radtransport durchführen. Die Anreise erfolgt also in selbst organisierten Fahrgemeinschaften und ist auch nicht in der Teilnahmegebühr enthalten.Die sonst bekannte Verpflegung beim Giro (Obst\, Brote\, Iso-Getränke) werden wir dieses Jahr auch nicht anbieten\, da wir die Hygienekonzepte im Hotel damit nicht einhalten könnten. \n\n\n\nLasst uns die Daumen drücken\, dass wir ein paar schöne Tage im hoffentlich sonnigen Südtirol verbringen können. \n\n\n\nBeim RSDD Team fahren Spaß und Teamgeist immer mit ! ! ! \n\n\n\n\n\n\n\nDetails\n\n\n\n\n\nTourguide:Joachim Glink\, Gerhard WagnerTourenart:Touren in allen Schwierigkeitsgraden Je nach Teilnehmerzahl 2-3 Gruppen pro TagAnmeldung:Joachim Glink – joachim@rsdd.debis 29.05.2022Leistungen:Hotel inkl. Frühstück; geführte TourenAnfahrt selbst organisiertKosten:ca 215 € pP im DZ (Übernachtung mit Frühstück)
URL:https://rsdd.de/event/rennrad-giro-kalterer-see/
CATEGORIES:Rennradtouren
ATTACH;FMTTYPE=image/png:https://rsdd.de/wp-content/uploads/2021/11/rennrad_icon.png
END:VEVENT
BEGIN:VEVENT
DTSTART;TZID=Europe/Paris:20220624T000000
DTEND;TZID=Europe/Paris:20220626T235959
DTSTAMP:20260423T073149
CREATED:20211102T180558Z
LAST-MODIFIED:20211105T175946Z
UID:814-1656028800-1656287999@rsdd.de
SUMMARY:3-Tages MTB Anfängertour
DESCRIPTION:Unsere leichte Einsteiger MTB führt uns an einem verlängerten Wochenende entlang des Lechs von der Quelle nach Füssen. Stolze 125 Kilometer sind es von der Quelle des Flusses Lech nahe des Formarinsees im österreichischen Vorarlberg bis nach Füssen im Allgäu.  \n\n\n\nEine der letzten Wildflusslandschaften Europas begleitet uns durch gleich zwei Länder und beschert uns ein herrliches Naturerlebnis. Unsere Tour startet in Lech am Arlberg wo wir das einsame Formarintal zur Lechquelle hinauf biken ( 18 km 650 Hm ). Auf der Freiburger Hütte nahe dem Formarinsee genießen wir den Abend inmitten der Lechtaler Alpen.  \n\n\n\nAm nächsten Tag folgen wir dem Lechrinnsal vorbei an Warth zu unserem Etappenziel nach Elbigenalp dem Geburtsort und  Heimat der Geierwally ( 50 km und 260 Hm ). Am nächsten Morgen geht’s zu unserem Zielort nach Füssen. Der Lech hat sich nun in ein breites Kiesbett eingegraben und kurz vor Füssen stürzt er am bekannten Lechfall inmitten der Stadt Füssen tief in sich. ( 55 km 150 Hm ). \n\n\n\n                                                                                                                                                                                                                                                                                                                                                                                                                                                                                                                                                                                                                                                                                                                                                                                                                                                                                                                                                                                                                                                                                                                                                                                                                                                                                                                                                                                                                                                                                                                                             \n\n\n\nDas einzigartige MTB-Erlebnis \n\n\n\nZwei Länder\, breite Kieswege\, endlose Wildflusslandschaft warten auf Dich: 125 km pure MTB-Emotion entlang des Wildflusses Lech. \n\n\n\n– Beim RSDD Team fährt der Spass und Teamgeist immer mit – \n\n\n\n\n\n\n\nDetails\n\n\n\n\n\nTourguide:Dieter SchalkTourenart:leichte MountainbiketourStrecke:125km / 1000hmTreffpunkt:10 Uhr Hauptbahnhof Augsburg SchalterhalleAnmeldung:Dieter@rsdd.de oder beim Tourguide bis 15. Mai; Anzahlung erforderlichLeistungen:Fahrt von Augsburg nach Füssen und zurückTransfer mit dem Bus nach Steeg im Lechtal1 Hüttenübernachtungen inkl. HP1 Hotelübernachtungen mit ÜFKosten:190 €
URL:https://rsdd.de/event/3-tages-mtb-anfaengertour/
CATEGORIES:MTB Touren
ATTACH;FMTTYPE=image/png:https://rsdd.de/wp-content/uploads/2021/11/mtb_icon.png
END:VEVENT
END:VCALENDAR