BEGIN:VCALENDAR
VERSION:2.0
PRODID:-//Radsport Dinkelscherben e.V. - ECPv6.15.20//NONSGML v1.0//EN
CALSCALE:GREGORIAN
METHOD:PUBLISH
X-ORIGINAL-URL:https://rsdd.de
X-WR-CALDESC:Veranstaltungen für Radsport Dinkelscherben e.V.
REFRESH-INTERVAL;VALUE=DURATION:PT1H
X-Robots-Tag:noindex
X-PUBLISHED-TTL:PT1H
BEGIN:VTIMEZONE
TZID:Europe/Paris
BEGIN:DAYLIGHT
TZOFFSETFROM:+0100
TZOFFSETTO:+0200
TZNAME:CEST
DTSTART:20210328T010000
END:DAYLIGHT
BEGIN:STANDARD
TZOFFSETFROM:+0200
TZOFFSETTO:+0100
TZNAME:CET
DTSTART:20211031T010000
END:STANDARD
BEGIN:DAYLIGHT
TZOFFSETFROM:+0100
TZOFFSETTO:+0200
TZNAME:CEST
DTSTART:20220327T010000
END:DAYLIGHT
BEGIN:STANDARD
TZOFFSETFROM:+0200
TZOFFSETTO:+0100
TZNAME:CET
DTSTART:20221030T010000
END:STANDARD
BEGIN:DAYLIGHT
TZOFFSETFROM:+0100
TZOFFSETTO:+0200
TZNAME:CEST
DTSTART:20230326T010000
END:DAYLIGHT
BEGIN:STANDARD
TZOFFSETFROM:+0200
TZOFFSETTO:+0100
TZNAME:CET
DTSTART:20231029T010000
END:STANDARD
END:VTIMEZONE
BEGIN:VEVENT
DTSTART;TZID=Europe/Paris:20220710T000000
DTEND;TZID=Europe/Paris:20220710T235959
DTSTAMP:20260423T055953
CREATED:20211102T180704Z
LAST-MODIFIED:20211105T175924Z
UID:816-1657411200-1657497599@rsdd.de
SUMMARY:Auf geheimen Wegen und Trails im Wettersteinmassiv
DESCRIPTION:Das Wettersteinmassiv steht heute auf dem Programm. Im Schatten von Zugspitze und Alpspitze geht’s auf geheimen und klein versteckten Wegen im Isartal zum Einrollen zum Schloss Elmau \, bekannt vom G 7 Gipfel.  \n\n\n\nÜber Mittenwald und den Kranzberg geht es auf flowigen Trails zu unserer Mittagspause auf der Wildseealm. Gestärkt machen wir jetzt die S 1 Trails im ehemaligen Truppenübungsgelände der Bundeswehr Mittenwald unsicher.  \n\n\n\nDie Kaffeepause legen wir in der einsamsten Siedlung des Wettersteins ein. Im Hintergraseck sitzen wir mit Blick auf Zugspitze und Alpspitze auf der Panorama Terrasse. Die finale Abfahrt nach Garmisch findet den Abschluss unserer Wettersteintour. \n\n\n\n                                                                                                                                                                                                                                                                                                                                                                                                                                                                                                                                                                                                                                                                                                                                                                                                                                                                                                                                                                                                                                                             \n\n\n\nDas einzigartige MTB-Erlebnis \n\n\n\nEin Gebirgsmassiv\, endloses Gipfelpanorama\, 55 km 1400 Höhenmeter warten auf Dich:  pure MTB-Emotion inmitten der endlosen Berge des Wettersteinmassivs. \n\n\n\n– Beim RSDD Team fährt der Spass und Teamgeist immer mit – \n\n\n\n\n\n\n\nDetails\n\n\n\n\n\nTourguide:Dieter SchalkAnton BrucklachnerTourenart:mittelschwere Mountainbiketour (Technik: S1/S2; Kondition: S2)Strecke:55km / 1400hmTreffpunkt:6 Uhr P+R Augsburg Hammerschmiede Neuburger Str / Friedl-Urban-Str8 Uhr Parkplatz Wankbahn GarmischAnmeldung:dieter@rsdd.de bis 7. JuliLeistungen:Kosten:
URL:https://rsdd.de/event/mtb-tagestour-wettersteinmassiv/
CATEGORIES:MTB Touren
ATTACH;FMTTYPE=image/png:https://rsdd.de/wp-content/uploads/2021/11/mtb_icon.png
END:VEVENT
BEGIN:VEVENT
DTSTART;TZID=Europe/Paris:20220724T000000
DTEND;TZID=Europe/Paris:20220724T235959
DTSTAMP:20260423T055953
CREATED:20211102T180749Z
LAST-MODIFIED:20220723T054434Z
UID:818-1658620800-1658707199@rsdd.de
SUMMARY:Rennrad Tagestour "Thannhauser RTF"
DESCRIPTION:Nachdem leider viele RTS ́s nun nicht mehr stattfinden\, wollen wir zum zweitenmal\, nach der Kauferinger RTF\, nun auch unsere Nachbar-RTF nachfahren. \n\n\n\nDie Streckenführung ist nicht ganz identisch mit den letzten Austragungen\, aber wer sich noch an frühere Jahre erinnern kann\, der kennt auch den Schwenk über Kronburg\, an der westlichsten Stelle. \n\n\n\nEs gibt auch eine kürzere Strecke über 96 km. \n\n\n\n\n\n\n\n\n\nAuf die gewohnten Verpflegungsstellen wie ihr sie bei den RTF ́s kennt\, müssen wir leider verzichten. Bei der 96er Runde wäre eine Kaffeepause in Pfaffenhausen möglich und bei der langen Runde bietet sich der „Booster“ in Obergünzburg an. \n\n\n\n \n\n\n\n\n\nGPX der langen Tour: \n\n\n\n\n\n\n\n\n\nGPX der kurzen Strecke: \n\n\n\n\n\n\n\n\n\n\n\n\n\nDetails\n\n\n\n\n\nTourguide:Hermann ZottTourenart:mittelschwere Rennrad TourStrecke:154 km bzw. 106 kmTreffpunkt:Abfahrt 8 Uhr\, Realschule ThannhausenAnmeldung:bei Hermann (hermann@rsdd.de)Leistungen:Kosten:
URL:https://rsdd.de/event/rennrad-tagestour-thannhauser-rtf/
CATEGORIES:Rennradtouren
ATTACH;FMTTYPE=image/png:https://rsdd.de/wp-content/uploads/2021/11/rennrad_icon.png
END:VEVENT
END:VCALENDAR