BEGIN:VCALENDAR
VERSION:2.0
PRODID:-//Radsport Dinkelscherben e.V. - ECPv6.15.20//NONSGML v1.0//EN
CALSCALE:GREGORIAN
METHOD:PUBLISH
X-ORIGINAL-URL:https://rsdd.de
X-WR-CALDESC:Veranstaltungen für Radsport Dinkelscherben e.V.
REFRESH-INTERVAL;VALUE=DURATION:PT1H
X-Robots-Tag:noindex
X-PUBLISHED-TTL:PT1H
BEGIN:VTIMEZONE
TZID:Europe/Paris
BEGIN:DAYLIGHT
TZOFFSETFROM:+0100
TZOFFSETTO:+0200
TZNAME:CEST
DTSTART:20210328T010000
END:DAYLIGHT
BEGIN:STANDARD
TZOFFSETFROM:+0200
TZOFFSETTO:+0100
TZNAME:CET
DTSTART:20211031T010000
END:STANDARD
BEGIN:DAYLIGHT
TZOFFSETFROM:+0100
TZOFFSETTO:+0200
TZNAME:CEST
DTSTART:20220327T010000
END:DAYLIGHT
BEGIN:STANDARD
TZOFFSETFROM:+0200
TZOFFSETTO:+0100
TZNAME:CET
DTSTART:20221030T010000
END:STANDARD
BEGIN:DAYLIGHT
TZOFFSETFROM:+0100
TZOFFSETTO:+0200
TZNAME:CEST
DTSTART:20230326T010000
END:DAYLIGHT
BEGIN:STANDARD
TZOFFSETFROM:+0200
TZOFFSETTO:+0100
TZNAME:CET
DTSTART:20231029T010000
END:STANDARD
END:VTIMEZONE
BEGIN:VEVENT
DTSTART;TZID=Europe/Paris:20220826T000000
DTEND;TZID=Europe/Paris:20220904T235959
DTSTAMP:20260423T030202
CREATED:20211102T180937Z
LAST-MODIFIED:20211105T175849Z
UID:823-1661472000-1662335999@rsdd.de
SUMMARY:MTB Trans Slowenien
DESCRIPTION:Nachdem wir die letzten Jahre die klassischen Transalp Routen und Durchquerungen der Westalpen unternahmen steht nun ein neues Bike Abenteuer auf dem RSDD Programm: \n\n\n\nTrans Slowenien 2022 \n\n\n\nFür den Transalpbiker ist eine zusammenhängende Überquerung von den südlichen Karnischen Alpen ans Mittelmeer ein ganz neues Abenteuer. Slowenien ist ein unbekanntes Land mit wechselnden Landschaften zwischen den markanten Julischen Alpen\, dem wildromantischen Soca Tal\, der Brda Weinregion\, das verlassene Karstgebirge und der sonnigen Adriaküste.  \n\n\n\n                                                                                                                                                                                                                                                                                                                                                                                                                                                                                                                                                                                                                                                                                                                                                                                                                                                                                                                                                                                                                                                                                                                       \n\n\n\nDie Streckenführung ist mit 20 % Trial und Waldwegen und 40 % anspruchsvollen Schotterabschnitten nur für Technikliebhaber und erfahrenen MTB er. Die durchschnittlichen Tagesetappen sind mit 55 km und 1500 Hm mit einer klassischen Transalp zu vergleichen.  \n\n\n\nZwei Länder\, endlose Gipfel\, 11.170 Höhenmeter warten auf Dich: 472 km pure MTB-Emotion entlang der alten Militärstraßen\, unbekannte Trails\, verlassenes Karstgebirge die Highlights der Trans Slowenien \n\n\n\n– Beim RSDD Team fährt der Spass und Teamgeist immer mit – \n\n\n\n\n\n\n\nDetails\n\n\n\n\n\nTourguide:Dieter SchalkTourenart:mittelschwere MountainbiketourStrecke:472km / 11.170hmTreffpunkt:5 Uhr P+R Parkplatz Augsburg Hammerschmiede Neuburger Straße / Friedl-Urban-StAnmeldung:dieter@rsdd.de bis 25. April; Anzahl erforderlichLeistungen:Fahrt von Augsburg nach Bleiburg und zurückRücktransfer von Izola nach Bleiburg6 Hotelübernachtungen inkl. ÜF3 Hotelübernachtungen inkl. HPKosten:690 €
URL:https://rsdd.de/event/mtb-trans-slowenien/
CATEGORIES:MTB Touren
ATTACH;FMTTYPE=image/png:https://rsdd.de/wp-content/uploads/2021/11/mtb_icon.png
END:VEVENT
BEGIN:VEVENT
DTSTART;TZID=Europe/Paris:20220911T000000
DTEND;TZID=Europe/Paris:20220911T235959
DTSTAMP:20260423T030202
CREATED:20211102T181012Z
LAST-MODIFIED:20220831T073811Z
UID:825-1662854400-1662940799@rsdd.de
SUMMARY:Rennrad Tour Walchensee / Eng
DESCRIPTION:Nach individueller Anfahrt treffen wir uns in Penzberg (Bahnhofsparkplatz) für eine wunderschöne Tour durch das Voralpenland. \n\n\n\n(Die Gruppe 3 startet ebenfalls um 8 Uhr in Wallgau und fährt von dort in die Eng\, dann zum Sylvensteinspeicher und über die Jachenau zurück zum Walchensee und Wallgau.) \n\n\n\n\n\n\n\n\n\n\n\nVon Penzberg aus fahren wir zum Kochelsee und über die Kesselbergstraße hinauf zum Walchensee. Nachdem wir in Wallgau angekommen sind nehmen wir die für den motorisierten Verkehr mautpflichtige Straße rüber nach Vorderriß. Von dort geht es stetig bergan in die „Eng“\, wo wir uns in einem Gasthaus stärken können. (Auf dem Weg von Vorderriß hinter in die Eng kommen noch ein paar weitere Wirtschaften und Almen; wer also nicht die ganze Strecke fahren will kann auch eine längere Mittagspause einlegen und sich der Gruppe beim Rückweg wieder anschließen.)  \n\n\n\n\n\n\n\n\n\n\n\n\n\n\n\n\n\n\n\n\n\nNach der Mittagspause fahren wir wieder zurück nach Vorderriß und weiter über den Sylvensteinsee und Lenggries sowie Bad Tölz zurück zu unserem Ausgangspunkt in Penzberg. \n\n\n\n \n\n\n\n\n\n\n\n\n\n\n\nBitte gebt uns einige Tage vor der Tour Bescheid\, wenn Ihr mitfahren wollt. Das erleichtert uns die Planung der Gruppen und der notwendigen Tourguides. \n\n\n\nBeim RSDD Team fahren Spaß und Teamgeist immer mit ! ! !! ! ! Auch Nichtmitglieder sind herzlich willkommen ! ! ! \n\n\n\n\n\n\n\nDetails\n\n\n\n\n\nTourguide:Joachim GlinkTourenart:mittelschwere RennradtourStrecke:140km / 1500hm und 100km / 900hmTreffpunkt:8:00 Abfahrt in Penzberg (Bahnhofsparkplatz) (lange Strecke)8:00 Abfahrt in Wallgau (kurze Strecke)Anmeldung:unverbindliche Anmeldung unter joachim@rsdd.deLeistungen:Kosten:
URL:https://rsdd.de/event/rennrad-tour-walchensee-eng/
CATEGORIES:Rennradtouren
ATTACH;FMTTYPE=image/png:https://rsdd.de/wp-content/uploads/2021/11/rennrad_icon.png
END:VEVENT
END:VCALENDAR