BEGIN:VCALENDAR
VERSION:2.0
PRODID:-//Radsport Dinkelscherben e.V. - ECPv6.15.20//NONSGML v1.0//EN
CALSCALE:GREGORIAN
METHOD:PUBLISH
X-WR-CALNAME:Radsport Dinkelscherben e.V.
X-ORIGINAL-URL:https://rsdd.de
X-WR-CALDESC:Veranstaltungen für Radsport Dinkelscherben e.V.
REFRESH-INTERVAL;VALUE=DURATION:PT1H
X-Robots-Tag:noindex
X-PUBLISHED-TTL:PT1H
BEGIN:VTIMEZONE
TZID:UTC
BEGIN:STANDARD
TZOFFSETFROM:+0000
TZOFFSETTO:+0000
TZNAME:UTC
DTSTART:20220101T000000
END:STANDARD
END:VTIMEZONE
BEGIN:VEVENT
DTSTART;TZID=UTC:20230127T200000
DTEND;TZID=UTC:20230127T230000
DTSTAMP:20260422T204740
CREATED:20221023T062746Z
LAST-MODIFIED:20221106T074102Z
UID:1691-1674849600-1674860400@rsdd.de
SUMMARY:Radler Stammtisch
DESCRIPTION:Wir starten das Jahr 2023 mit einem gemütlichen Radler Stammtisch im Gasthof Adler\, Dinkelscherben. \n\n\n\nHier werden wir auch das aktuelle Jahresprogramm 2023 verteilen.
URL:https://rsdd.de/event/radler-stammtisch-2/
CATEGORIES:Mitgliederabend
ATTACH;FMTTYPE=image/jpeg:https://rsdd.de/wp-content/uploads/2022/11/Logo_Velopac_ohne_Text.jpg
END:VEVENT
END:VCALENDAR