BEGIN:VCALENDAR
VERSION:2.0
PRODID:-//Radsport Dinkelscherben e.V. - ECPv6.15.20//NONSGML v1.0//EN
CALSCALE:GREGORIAN
METHOD:PUBLISH
X-ORIGINAL-URL:https://rsdd.de
X-WR-CALDESC:Veranstaltungen für Radsport Dinkelscherben e.V.
REFRESH-INTERVAL;VALUE=DURATION:PT1H
X-Robots-Tag:noindex
X-PUBLISHED-TTL:PT1H
BEGIN:VTIMEZONE
TZID:UTC
BEGIN:STANDARD
TZOFFSETFROM:+0000
TZOFFSETTO:+0000
TZNAME:UTC
DTSTART:20220101T000000
END:STANDARD
END:VTIMEZONE
BEGIN:VEVENT
DTSTART;TZID=UTC:20230303T200000
DTEND;TZID=UTC:20230303T230000
DTSTAMP:20260422T175356
CREATED:20221101T060000Z
LAST-MODIFIED:20230219T083951Z
UID:1738-1677873600-1677884400@rsdd.de
SUMMARY:Mitgliederversammlung
DESCRIPTION:Liebe Vereinsmitglieder\, \n\n\n\nzu unserer Mitgliederversammlung möchten wir Dich/Euch recht herzlich einladen. \n\n\n\nFreitag\, den 03. März um 20:00 Uhr \n\n\n\nIm Gasthof Zum Adler\, Augsburger Straße 2\, 86424 Dinkelscherben \n\n\n\nAls Tagesordnungspunkte sind vorgesehen: \n\n\n\n\nBegrüßung durch den 1. Vorstand und Bekanntgabe der Tagesordnung\n\n\n\nBericht der Vorstandschaft über das abgelaufene Geschäftsjahr sowie Bericht des Kassierers und Schriftführers\n\n\n\nBericht der Kassenprüfer und Entlastung der Vorstandschaft\n\n\n\nEhrung Vereinsmeister und Marathonkönig\n\n\n\nVorstellung des Jahresprogramms 2023\n\n\n\nSonstiges\n\n\n\n\nZu Punkt 6 bitten wir Euch\, Wünsche und Anträge bis spätestens 24.02.2023 dem Vorstand bekannt zu geben. \n\n\n\nEs wäre schön\, Euch recht zahlreich begrüßen zu können. \n\n\n\nDie Vorstandschaft
URL:https://rsdd.de/event/mitgliederversammlung2023/
CATEGORIES:Mitgliederabend
ATTACH;FMTTYPE=image/jpeg:https://rsdd.de/wp-content/uploads/2022/11/Logo_Velopac_ohne_Text.jpg
END:VEVENT
END:VCALENDAR