BEGIN:VCALENDAR
VERSION:2.0
PRODID:-//Radsport Dinkelscherben e.V. - ECPv6.15.20//NONSGML v1.0//EN
CALSCALE:GREGORIAN
METHOD:PUBLISH
X-WR-CALNAME:Radsport Dinkelscherben e.V.
X-ORIGINAL-URL:https://rsdd.de
X-WR-CALDESC:Veranstaltungen für Radsport Dinkelscherben e.V.
REFRESH-INTERVAL;VALUE=DURATION:PT1H
X-Robots-Tag:noindex
X-PUBLISHED-TTL:PT1H
BEGIN:VTIMEZONE
TZID:Europe/Paris
BEGIN:DAYLIGHT
TZOFFSETFROM:+0100
TZOFFSETTO:+0200
TZNAME:CEST
DTSTART:20220327T010000
END:DAYLIGHT
BEGIN:STANDARD
TZOFFSETFROM:+0200
TZOFFSETTO:+0100
TZNAME:CET
DTSTART:20221030T010000
END:STANDARD
BEGIN:DAYLIGHT
TZOFFSETFROM:+0100
TZOFFSETTO:+0200
TZNAME:CEST
DTSTART:20230326T010000
END:DAYLIGHT
BEGIN:STANDARD
TZOFFSETFROM:+0200
TZOFFSETTO:+0100
TZNAME:CET
DTSTART:20231029T010000
END:STANDARD
BEGIN:DAYLIGHT
TZOFFSETFROM:+0100
TZOFFSETTO:+0200
TZNAME:CEST
DTSTART:20240331T010000
END:DAYLIGHT
BEGIN:STANDARD
TZOFFSETFROM:+0200
TZOFFSETTO:+0100
TZNAME:CET
DTSTART:20241027T010000
END:STANDARD
END:VTIMEZONE
BEGIN:VEVENT
DTSTART;TZID=Europe/Paris:20230415T000000
DTEND;TZID=Europe/Paris:20230422T235959
DTSTAMP:20260422T162120
CREATED:20221101T060000Z
LAST-MODIFIED:20221102T143010Z
UID:1698-1681516800-1682207999@rsdd.de
SUMMARY:Rennrad Trainingslager Mallorca
DESCRIPTION:„Eine attraktive Landschaft\, abwechslungsreiche Topographie\, ausgezeichnete Strassennetze\, optimales Trainingsklima\, viele Cafés\, hervorragende Unterkünfte und mediterranes Ambiente. Willkommen im Radsport- paradies Mallorca.“ \n\n\n\n\n\n\n\nSo lautet der Werbetext von „Hürzeler – Das Radsporterlebnis“\, unserem Partner für das Trainingslager 2023.In schöner Tradition wechseln wir für dieses Jahr wieder von Italien auf die Radsport-Insel schlechthin: Mallorca. \n\n\n\nUnsere Unterkunft „Grupotel Los Principes & Spa“ befindet sich in Playa de Muro\, im Nordosten der Insel.Diese Region gilt dank seiner ausgezeichneten geografischen Lage als Radsport Mekka schlechthin.  \n\n\n\n\n\n\n\n\n\n\n\nVon flachen\, welligen über hügelige bis bergige Touren bietet der Ausgangsort alles\, was sich Radsportler wünschen können. Deshalb ist die Region rund um Alcudia ein ideales Terrain für genüssliches Radfahren bis hin zum leistungsorientierten Training. \n\n\n\n\n\n\n\n\n\nUnd nach den Touren gibt es die Möglichkeit\, sich entweder am Strand zu entspannen oder in eine der zahlreichen Bars und Cafés zu gehen. \n\n\n\nDetails\n\n\n\n\n\nOrganisation:Lothar MaierTourenart:große Streckenauswahl; von leicht bis schwerStrecke:jeden Tag unterschiedliche Strecken in min. 2 LeistungsstufenAnmeldung:lothar@rsdd.de(bereits erfolgt; spätere Buchung ggf. mit Aufpreis)Leistungen:Flug und Transfer (Flughafen<->Hotel)Hotel inkl. HalbpensionMietradgeführte Touren in unterschiedlichen LeistungsklassenKosten:ca. 980 € pro Person / DZBuchung erfolgt über „Mallorca aktiv“
URL:https://rsdd.de/event/rennrad-trainingslager2023-mallorca/
CATEGORIES:Rennradtouren
ATTACH;FMTTYPE=image/png:https://rsdd.de/wp-content/uploads/2021/11/rennrad_icon.png
END:VEVENT
END:VCALENDAR