BEGIN:VCALENDAR
VERSION:2.0
PRODID:-//Radsport Dinkelscherben e.V. - ECPv6.15.20//NONSGML v1.0//EN
CALSCALE:GREGORIAN
METHOD:PUBLISH
X-WR-CALNAME:Radsport Dinkelscherben e.V.
X-ORIGINAL-URL:https://rsdd.de
X-WR-CALDESC:Veranstaltungen für Radsport Dinkelscherben e.V.
REFRESH-INTERVAL;VALUE=DURATION:PT1H
X-Robots-Tag:noindex
X-PUBLISHED-TTL:PT1H
BEGIN:VTIMEZONE
TZID:Europe/Paris
BEGIN:DAYLIGHT
TZOFFSETFROM:+0100
TZOFFSETTO:+0200
TZNAME:CEST
DTSTART:20220327T010000
END:DAYLIGHT
BEGIN:STANDARD
TZOFFSETFROM:+0200
TZOFFSETTO:+0100
TZNAME:CET
DTSTART:20221030T010000
END:STANDARD
BEGIN:DAYLIGHT
TZOFFSETFROM:+0100
TZOFFSETTO:+0200
TZNAME:CEST
DTSTART:20230326T010000
END:DAYLIGHT
BEGIN:STANDARD
TZOFFSETFROM:+0200
TZOFFSETTO:+0100
TZNAME:CET
DTSTART:20231029T010000
END:STANDARD
BEGIN:DAYLIGHT
TZOFFSETFROM:+0100
TZOFFSETTO:+0200
TZNAME:CEST
DTSTART:20240331T010000
END:DAYLIGHT
BEGIN:STANDARD
TZOFFSETFROM:+0200
TZOFFSETTO:+0100
TZNAME:CET
DTSTART:20241027T010000
END:STANDARD
END:VTIMEZONE
BEGIN:VEVENT
DTSTART;TZID=Europe/Paris:20230507T000000
DTEND;TZID=Europe/Paris:20230507T235959
DTSTAMP:20260422T150252
CREATED:20221101T060000Z
LAST-MODIFIED:20221102T082304Z
UID:1703-1683417600-1683503999@rsdd.de
SUMMARY:MTB Anfängertour zwischen Ammersee und  Starnberger See
DESCRIPTION:Auf dieser MTB – Anfängertour wollen wir Euch\, den sportlichen Tourenfahrern\, den Einstieg ins Mountainbiken erleichtern. Auf breiten und leicht ansteigenden Forstwegen wollen wir die Natur zwischen Ammersee und Starnberger See erleben.  \n\n\n\n\n\n\n\n\n\n\n\n\n\n\n\n\n\nDie Mittagspause werden wir mit Blick auf Starnberger See und das Voralpenland genießen. Die Endmoräne des Andechser Bergs mit einem Höhenunterschied von 150 hm bietet eine Vielfalt an kleinen Trials zur Erweiterung der Technik bietet. \n\n\n\nDas einzigartige MTB-Erlebnis \n\n\n\nEin Berg ( heiliger Berg von Andechs )\, zwei Seen ( Ammersee Starnberger See ) 600 Höhenmeter und 60 km warten auf Dich: Pure MTB-Emotion inmitten des Voralpenlands mit garantiertem Bergblick. \n\n\n\n\n\n\n\nDetails\n\n\n\n\n\nTourguide:             Dieter Schalk – Tel. 08152 / 96109\, Handy 0170 / 759 59 22Anton Brucklackner – Tel. 08237 / 7673\, Handy 0151 / 594 956 87Tourenart:Leichte Anfänger MountainbiketourSchwierigkeitsgrad FahrtechnikS0 – S1Schwierigkeitsgrad KonditionS2Strecke:60 km 600 hmTreffpunkt:   09.00 Uhr 82346 Frieding\, Parkplatz Hannawies\, Verbindungsstraße Frieding – Kreuzung nach Andechs    
URL:https://rsdd.de/event/mtb-anfaengertour-zwischen-ammersee-und-starnberger-see-2/
LOCATION:Frieding\, Frieding\, 82346\, Deutschland
CATEGORIES:MTB Touren
ATTACH;FMTTYPE=image/png:https://rsdd.de/wp-content/uploads/2021/11/mtb_icon.png
END:VEVENT
BEGIN:VEVENT
DTSTART;TZID=Europe/Paris:20230521T090000
DTEND;TZID=Europe/Paris:20230521T160000
DTSTAMP:20260422T150252
CREATED:20221101T060000Z
LAST-MODIFIED:20230512T155931Z
UID:1708-1684659600-1684684800@rsdd.de
SUMMARY:Rennrad Wallfahrt Roggenburg
DESCRIPTION:Unsere 15. Wallfahrt führt uns zum Kloster in Roggenburg. Die Barrockanlage wurde im Jahre 1126 durch die Grafen von Bibereck als Prämonstratenser-kloster gegründet.  \n\n\n\nWir starten unsere Tour in 2 Leistungsgruppen in nördlicher Richtung und erreichen nach 60 km Roggenburg. \n\n\n\nNach Roggenburg haben wir auch eine Alternativroute im Angebot\, um das Zwischenziel bereits nach 34km zu erreichen. \n\n\n\nNach dem Besuch des Klosters und unserer Kerzenspende zur Sicherstellung unserer kommen-den Touren des Jahres\, fahren wir noch kurz einen km weiter zur Mittagspause beim Roggenburger See im Restaurant„KleinVenedig“ (www.kleinvenedig-roggenburg.de). \n\n\n\n\n\n\n\n\n\n\n\nDie anschließende Weiterfahrt auf ruhigen Nebenstrassen in südlicher Richtung führt uns nach Babenhausen. Danach schwenken wir nach Osten und überqueren mehrere Täler bevor sich in Kirchheim eine weitere Kaffeepause anbietet. Die restliche Heimfahrt ist aus unseren Trainingsrunden bestens bekannt. \n\n\n\n\n\n\n\n\n\n\n\n\n\nDetails\n\n\n\n\n\nTourguide:Joachim GlinkGerhard WagnerTourenart:mittelschwerStrecke:Gruppe 1: 134 km / 1200 hmGruppe 2: 107 km / 900 hmTreffpunkt:09:00 UhrParkplatz Mittelschule Dinkelscherben
URL:https://rsdd.de/event/rennrad-wallfahrt-roggenburg/
CATEGORIES:Rennradtouren
ATTACH;FMTTYPE=image/png:https://rsdd.de/wp-content/uploads/2021/11/rennrad_icon.png
END:VEVENT
END:VCALENDAR