BEGIN:VCALENDAR
VERSION:2.0
PRODID:-//Radsport Dinkelscherben e.V. - ECPv6.15.20//NONSGML v1.0//EN
CALSCALE:GREGORIAN
METHOD:PUBLISH
X-WR-CALNAME:Radsport Dinkelscherben e.V.
X-ORIGINAL-URL:https://rsdd.de
X-WR-CALDESC:Veranstaltungen für Radsport Dinkelscherben e.V.
REFRESH-INTERVAL;VALUE=DURATION:PT1H
X-Robots-Tag:noindex
X-PUBLISHED-TTL:PT1H
BEGIN:VTIMEZONE
TZID:Europe/Paris
BEGIN:DAYLIGHT
TZOFFSETFROM:+0100
TZOFFSETTO:+0200
TZNAME:CEST
DTSTART:20220327T010000
END:DAYLIGHT
BEGIN:STANDARD
TZOFFSETFROM:+0200
TZOFFSETTO:+0100
TZNAME:CET
DTSTART:20221030T010000
END:STANDARD
BEGIN:DAYLIGHT
TZOFFSETFROM:+0100
TZOFFSETTO:+0200
TZNAME:CEST
DTSTART:20230326T010000
END:DAYLIGHT
BEGIN:STANDARD
TZOFFSETFROM:+0200
TZOFFSETTO:+0100
TZNAME:CET
DTSTART:20231029T010000
END:STANDARD
BEGIN:DAYLIGHT
TZOFFSETFROM:+0100
TZOFFSETTO:+0200
TZNAME:CEST
DTSTART:20240331T010000
END:DAYLIGHT
BEGIN:STANDARD
TZOFFSETFROM:+0200
TZOFFSETTO:+0100
TZNAME:CET
DTSTART:20241027T010000
END:STANDARD
END:VTIMEZONE
BEGIN:VEVENT
DTSTART;TZID=Europe/Paris:20230807T000000
DTEND;TZID=Europe/Paris:20230808T235959
DTSTAMP:20260422T105428
CREATED:20221101T060000Z
LAST-MODIFIED:20221102T081825Z
UID:1716-1691366400-1691539199@rsdd.de
SUMMARY:Ötztaler an 2 Tagen
DESCRIPTION:„Ich habe einen Traum…“Das ist das Motto des Ötztaler Radmarathons; einer der wohl bekanntesten und wohl auch anspruchvollsten Radmarathons in Europa. \n\n\n\n \n\n\n\n\n\n\n\n\n\n\n\n\n\n\n\nJedes Jahr bewerben sich bis zu 20.000 Rennrad Begeisterte für einen der ca. 4.000 Startplätze\, um sich nach 230km und 5300hm eines der begehrten Finisher Trikots zu sichern.Wir bieten Euch dieses Jahr die Chance\, die Strecke des Ötztalers auch zu fahren; allerdings auf 2 Tage verteilt. \n\n\n\n\n\n \n\n\n\n\n\nAm ersten Tag fahren wir von zu Hause in Fahrgemeinschaften nach Ötz und starten von dort unsere erste Etappe über das Kühtai (2020m) und den Brennerpass (1377m) nach Sterzing. \n\n\n\nNach einer Nacht in Sterzing geht es am nächsten Tag über den Jaufenpass (2090m) und den Scharfrichter\, das Timmelsjoch (2509m). \n\n\n\nNach einer langen Abfahrt vom Timmelsjoch und durch das Ötztal kommen wir zurück nach Ötz und fahren anschließen wieder nach Hause. \n\n\n\nBitte beachtet: die Strecke bietet keine Alternativroute; es kann also nicht abgekürzt werden. \n\n\n\n\n\n\n\nDies ist das offizielle Höhenprofil vom Ötztaler Radmarathon. Für uns geht es nach dem Start in Ötz gleich mit der Steigung hinauf aufs Kühtai los. Die eingezeichneten Labestationen stehen für uns natürlich leider nicht zur Verfügung; aber den ein oder anderen Kaffee-Stopp werden wir sicherlich auch einlegen\, um die Speicher aufzufüllen. \n\n\n\nDetails\n\n\n\n\n\nTourguide:Joachim GlinkTourenart:schwere Rennradtour über 2 TageStrecke:230 km5300 hmTreffpunkt:9:00 UhrÖtz\, TirolAnmeldung:joachim@rsdd.debis 01.05.2023Leistungen:1 Übernachtung inkl FrühstückAnreise in privaten FahrgemeinschaftenKosten:ca. 100 € / Person (DZ)
URL:https://rsdd.de/event/oetztaler-an-2-tagen/
CATEGORIES:Rennradtouren
ATTACH;FMTTYPE=image/png:https://rsdd.de/wp-content/uploads/2021/11/rennrad_icon.png
END:VEVENT
BEGIN:VEVENT
DTSTART;TZID=Europe/Paris:20230825T000000
DTEND;TZID=Europe/Paris:20230902T235959
DTSTAMP:20260422T105428
CREATED:20221101T060000Z
LAST-MODIFIED:20221102T081819Z
UID:1748-1692921600-1693699199@rsdd.de
SUMMARY:MTB Trans Slowenien
DESCRIPTION:Nachdem wir letztes Jahr die slowenischen Berge im Westen unter die Stollen nahmen steht nun ein neues Bike Abenteuer auf dem RSDD Programm: \n\n\n\nTrans Slowenien Ost \n\n\n\nFür den Transalpbiker ist eine zusammenhängende Überquerung von den Südöstlichen julischen Alpen ans Mittelmeer ein weiteres Abenteuer. Slowenien ist ein unbekanntes Land mit wechselnden Landschaften zwischen den markanten Julischen Alpen\, dem wildromantischen Soca Tal\, der Brda Weinregion\, dem verlassenen Karstgebirge und der sonnigen Adriaküste. Die Streckenführung ist mit 20 % Trail  und Waldwegen und 40 % anspruchsvollen Schotterab- schnitten nur für Technikliebhaber und erfahrenen MTBer. \n\n\n\n\n\n\n\n\n\n\n\n\n\n\n\n\n\nDie durchschnittlichen Tagesetappen sind mit 52 km und 1220 Hm mit einer klassischen Transalp zu vergleichen. \n\n\n\n \n\n\n\n\n\n\n\nDetails\n\n\n\n\n\nTourguide:Dieter SchalkTourenart:mittelschwere MountainbiketourSchwierigkeitsgrad FahrtechnikS2Schwierigkeitsgrad KonditionS2Strecke:422 km / 9200 hmTreffpunkt:5 Uhr P+R Parkplatz Augsburg Hammerschmiede Neuburger Straße / Friedl-Urban-StAnmeldung:info@rsdd.de bis 17.05.2023Anzahl erforderlichLeistungen:Fahrt von Augsburg nach Faak am See und zurückRücktransfer von Izola nach Faak am See6 Hotelübernachtungen inkl. ÜF2 Hotelübernachtungen inkl. HPKosten:765 €
URL:https://rsdd.de/event/mtb-trans-slowenien-2/
CATEGORIES:MTB Touren
ATTACH;FMTTYPE=image/png:https://rsdd.de/wp-content/uploads/2021/11/mtb_icon.png
END:VEVENT
END:VCALENDAR