BEGIN:VCALENDAR
VERSION:2.0
PRODID:-//Radsport Dinkelscherben e.V. - ECPv6.15.20//NONSGML v1.0//EN
CALSCALE:GREGORIAN
METHOD:PUBLISH
X-WR-CALNAME:Radsport Dinkelscherben e.V.
X-ORIGINAL-URL:https://rsdd.de
X-WR-CALDESC:Veranstaltungen für Radsport Dinkelscherben e.V.
REFRESH-INTERVAL;VALUE=DURATION:PT1H
X-Robots-Tag:noindex
X-PUBLISHED-TTL:PT1H
BEGIN:VTIMEZONE
TZID:Europe/Paris
BEGIN:DAYLIGHT
TZOFFSETFROM:+0100
TZOFFSETTO:+0200
TZNAME:CEST
DTSTART:20220327T010000
END:DAYLIGHT
BEGIN:STANDARD
TZOFFSETFROM:+0200
TZOFFSETTO:+0100
TZNAME:CET
DTSTART:20221030T010000
END:STANDARD
BEGIN:DAYLIGHT
TZOFFSETFROM:+0100
TZOFFSETTO:+0200
TZNAME:CEST
DTSTART:20230326T010000
END:DAYLIGHT
BEGIN:STANDARD
TZOFFSETFROM:+0200
TZOFFSETTO:+0100
TZNAME:CET
DTSTART:20231029T010000
END:STANDARD
BEGIN:DAYLIGHT
TZOFFSETFROM:+0100
TZOFFSETTO:+0200
TZNAME:CEST
DTSTART:20240331T010000
END:DAYLIGHT
BEGIN:STANDARD
TZOFFSETFROM:+0200
TZOFFSETTO:+0100
TZNAME:CET
DTSTART:20241027T010000
END:STANDARD
END:VTIMEZONE
BEGIN:VTIMEZONE
TZID:UTC
BEGIN:STANDARD
TZOFFSETFROM:+0000
TZOFFSETTO:+0000
TZNAME:UTC
DTSTART:20220101T000000
END:STANDARD
END:VTIMEZONE
BEGIN:VEVENT
DTSTART;TZID=Europe/Paris:20231003T000000
DTEND;TZID=Europe/Paris:20231003T235959
DTSTAMP:20260422T073830
CREATED:20221101T060000Z
LAST-MODIFIED:20221102T081812Z
UID:1751-1696291200-1696377599@rsdd.de
SUMMARY:Rennrad Abschlussfahrt
DESCRIPTION:Traditionell führen wir am Tag der Deutschen Einheit noch einmal eine längere Saisonabschlussfahrt durch. \n\n\n\nDie Strecke wird kurzfristig bekannt gegeben. \n\n\n\n \n\n\n\n \n\n\n\n\n\n\n\nDetails\n\n\n\n\n\nTourguide:Joachim GlinkGerhard WagnerTourenart:mittelschwere RennradtourStrecke:???Treffpunkt:10 Uhr Schulparkplatz DinkelscherbenAnmeldung:gerhard@rsdd.dejoachim@rsdd.de
URL:https://rsdd.de/event/rennrad-abschlussfahrt-2/
CATEGORIES:Rennradtouren
ATTACH;FMTTYPE=image/png:https://rsdd.de/wp-content/uploads/2021/11/rennrad_icon.png
END:VEVENT
BEGIN:VEVENT
DTSTART;TZID=UTC:20231007T170000
DTEND;TZID=UTC:20231007T200000
DTSTAMP:20260422T073830
CREATED:20221101T060000Z
LAST-MODIFIED:20221106T073648Z
UID:1733-1696698000-1696708800@rsdd.de
SUMMARY:Vereinsausflug 2023
DESCRIPTION:Keine Sorge\, es ist kein Marathon. In dieser Zeit werden wir einige touristische Höhepunkte erleben\, aber auch romantische und stille Orte besuchen. Augsburg hat Viel zu bieten. Lasst Euch verzaubern! \n\n\n\nEin gemütlicher Fußmarsch durch das historische Augsburg\, also nicht im WWW (world-wide-web)\, sondern auf den Spuren vom \n\n\n\n   Weltkulturerbe Wasser \n\n\n\n   Welser (Fugger natürlich auch) \n\n\n\n   Wolferl Amadeus. \n\n\n\nAn eine kulinarische Pause ist selbstverständlich auch gedacht. \n\n\n\nNur bei schönem Wetter!Bei „Sauwetter“ eine Woche später. \n\n\n\n\n\n\n\nDetails\n\n\n\n\n\nTourguide:Wolfgang GreiselAnmeldung:bis 25.09.2023wolfgang@rsdd.de
URL:https://rsdd.de/event/vereinsausflug-2023/
CATEGORIES:Ausflug
ATTACH;FMTTYPE=image/jpeg:https://rsdd.de/wp-content/uploads/2022/11/Logo_Velopac_ohne_Text.jpg
END:VEVENT
BEGIN:VEVENT
DTSTART;TZID=Europe/Paris:20231015T000000
DTEND;TZID=Europe/Paris:20231015T235959
DTSTAMP:20260422T073830
CREATED:20221101T060000Z
LAST-MODIFIED:20221102T081805Z
UID:1731-1697328000-1697414399@rsdd.de
SUMMARY:MTB Abschlussfahrt
DESCRIPTION:Ein Gebirgsmassiv\, endloses Gipfelpanorama\, 60 km 2.000 Höhenmeter warten auf Dich:  pure MTB-Emotion inmitten der endlosen Berge des Allgäus. \n\n\n\n\n\n\n\n\n\n\n\nDer Naturpark Nagelfluhkette ist von einer einzigartigen Landschaft geprägt und gehört zu den Geheimtipps im Allgäu. Die Mountainbiketour führt von Bühl am Alpsee zur Alpe Gund\, durch das Ehrenschwanger Tal nach Oberstaufen und von dort über die Salmaserhöhe zurück nach Immenstadt. \n\n\n\nAuf dem Weg nach Oberstaufen durchqueren wir Teile der Nagelfluhkette und auf dem Rückweg genießen wir auf einem Höhenweg den Blick über den Alpsee. \n\n\n\n\n\nEs lohnt sich\, auch einen Blick auf die geschützte Flora und Fauna des Naturparks zu werfen. Einkehrmöglichkeiten finden wir in den zahlreichen Alpen am Weg. \n\n\n\n \n\n\n\n \n\n\n\n\n\n\n\nDetails\n\n\n\n\n\nTourguide:Dieter Schalk – Tel. 08152 / 96109\, Handy 0170 / 759 59 22Anton Brucklackner – Tel. 08237 / 7673\, Handy 0151 / 594 956 87Tourenart:mittelschwere MountainbiketourSchwierigkeitsgrad FahrtechnikS1Schwierigkeitsgrad KonditionS2Strecke:60 km / 2000 hmTreffpunkt:6:00 Uhr P+R Parkplatz Augsburg Hammerschmiede Neuburger Straße / Friedl-Urban-StAnmeldung:dieter@rsdd.de bis 13.10.2023
URL:https://rsdd.de/event/mtb-abschlussfahrt-2023/
CATEGORIES:MTB Touren
ATTACH;FMTTYPE=image/png:https://rsdd.de/wp-content/uploads/2021/11/mtb_icon.png
END:VEVENT
END:VCALENDAR