BEGIN:VCALENDAR
VERSION:2.0
PRODID:-//Radsport Dinkelscherben e.V. - ECPv6.15.20//NONSGML v1.0//EN
CALSCALE:GREGORIAN
METHOD:PUBLISH
X-WR-CALNAME:Radsport Dinkelscherben e.V.
X-ORIGINAL-URL:https://rsdd.de
X-WR-CALDESC:Veranstaltungen für Radsport Dinkelscherben e.V.
REFRESH-INTERVAL;VALUE=DURATION:PT1H
X-Robots-Tag:noindex
X-PUBLISHED-TTL:PT1H
BEGIN:VTIMEZONE
TZID:UTC
BEGIN:STANDARD
TZOFFSETFROM:+0000
TZOFFSETTO:+0000
TZNAME:UTC
DTSTART:20230101T000000
END:STANDARD
END:VTIMEZONE
BEGIN:VEVENT
DTSTART;TZID=UTC:20240308T200000
DTEND;TZID=UTC:20240308T230000
DTSTAMP:20260422T001724
CREATED:20231103T154834Z
LAST-MODIFIED:20231103T154835Z
UID:2394-1709928000-1709938800@rsdd.de
SUMMARY:Mitgliederversammlung
DESCRIPTION:Liebe Vereinsmitglieder\, \n\n\n\nzu unserer Mitgliederversammlung inkl. Wahlen möchten wir Dich/Euch recht herzlich einladen. \n\n\n\nFreitag\, den 08. März um 20:00 Uhr \n\n\n\nIm Gasthof Zum Adler\, Augsburger Straße 2\, 86424 Dinkelscherben \n\n\n\nDie Tagesordnungspunkte werden noch fristgerecht bekannt gegeben. \n\n\n\nEs wäre schön\, Euch recht zahlreich begrüßen zu können. \n\n\n\nDie Vorstandschaft
URL:https://rsdd.de/event/mitgliederversammlung/
CATEGORIES:Mitgliederabend
ATTACH;FMTTYPE=image/jpeg:https://rsdd.de/wp-content/uploads/2022/11/Logo_Velopac_ohne_Text.jpg
END:VEVENT
END:VCALENDAR