BEGIN:VCALENDAR
VERSION:2.0
PRODID:-//Radsport Dinkelscherben e.V. - ECPv6.15.20//NONSGML v1.0//EN
CALSCALE:GREGORIAN
METHOD:PUBLISH
X-WR-CALNAME:Radsport Dinkelscherben e.V.
X-ORIGINAL-URL:https://rsdd.de
X-WR-CALDESC:Veranstaltungen für Radsport Dinkelscherben e.V.
REFRESH-INTERVAL;VALUE=DURATION:PT1H
X-Robots-Tag:noindex
X-PUBLISHED-TTL:PT1H
BEGIN:VTIMEZONE
TZID:Europe/Paris
BEGIN:DAYLIGHT
TZOFFSETFROM:+0100
TZOFFSETTO:+0200
TZNAME:CEST
DTSTART:20230326T010000
END:DAYLIGHT
BEGIN:STANDARD
TZOFFSETFROM:+0200
TZOFFSETTO:+0100
TZNAME:CET
DTSTART:20231029T010000
END:STANDARD
BEGIN:DAYLIGHT
TZOFFSETFROM:+0100
TZOFFSETTO:+0200
TZNAME:CEST
DTSTART:20240331T010000
END:DAYLIGHT
BEGIN:STANDARD
TZOFFSETFROM:+0200
TZOFFSETTO:+0100
TZNAME:CET
DTSTART:20241027T010000
END:STANDARD
BEGIN:DAYLIGHT
TZOFFSETFROM:+0100
TZOFFSETTO:+0200
TZNAME:CEST
DTSTART:20250330T010000
END:DAYLIGHT
BEGIN:STANDARD
TZOFFSETFROM:+0200
TZOFFSETTO:+0100
TZNAME:CET
DTSTART:20251026T010000
END:STANDARD
END:VTIMEZONE
BEGIN:VEVENT
DTSTART;TZID=Europe/Paris:20240413T000000
DTEND;TZID=Europe/Paris:20240420T235959
DTSTAMP:20260421T224620
CREATED:20231103T155231Z
LAST-MODIFIED:20231106T100801Z
UID:2396-1712966400-1713657599@rsdd.de
SUMMARY:Rennrad Trainingslager Mallorca
DESCRIPTION:„Die grösste Baleareninsel besticht durch ihre landschaftliche Vielfalt und ist abseits des touristischen Trubels DER Treffpunkt aller Radsportbegeisterten.“ \n\n\n\nFür unser Rennradtrainingslager 2024 haben wir uns wieder für das beste Radgebiet im Norden Mallorcas entschieden. Und weil beim Rennradfahren nicht nur die Landschaft\, sondern auch das Material entscheidend zum Spaß beträgt\, bekommen wir heuer die neuen Modelle von Cube (Agree Di2 2024 und Attain 2024) zur Verfügung gestellt.  \n\n\n\nDie Pauschalreise läuft über den größten Radsportreiseveranstalter Hürzeler.  \n\n\n\nWie letztes Jahr sind wir wieder im 4-Sterne Grupotel Los Principes & Spa in Playa de Muro untergebracht. Den Ablauf während unseres Aufenthaltes gestalten wir wieder frei\, wobei wir wieder drei Leistungsgruppen anbieten. Es besteht auch die Möglichkeit an geführten Touren von Hürzeler teilzunehmen.  \n\n\n\nAufgrund der hohen Teilnehmerzahl organisieren wir\, wie letztes Jahr\, wieder einen Transfer Dinkelscherben – München Flughafen und zurück.  \n\n\n\nWir wünschen allen Teilnehmerinnen und Teilnehmer eine unfallfreie Fahrt und einen traumhaften Radurlaub in der Sonne Mallorcas.  \n\n\n\n\n\n\n\n\n\n\n\n\n\n\n\n\n\n\n\n\n\nDetails\n\n\n\n\n\nOrganisation:Lothar MaierTourenart:große Streckenauswahl; von leicht bis schwerStrecke:jeden Tag unterschiedliche Strecken in min. 2 LeistungsstufenAnmeldung:lothar@rsdd.de(bereits erfolgt; spätere Buchung ggf. mit Aufpreis)Leistungen:Flug und Transfer (Flughafen<->Hotel)Hotel inkl. HalbpensionMietradgeführte Touren in unterschiedlichen LeistungsklassenKosten:ca. 1150 € pro Person / DZBuchung erfolgt über „Mallorca aktiv“
URL:https://rsdd.de/event/rennrad-trainingslager-mallorca/
CATEGORIES:Rennradtouren
ATTACH;FMTTYPE=image/png:https://rsdd.de/wp-content/uploads/2021/11/rennrad_icon.png
END:VEVENT
BEGIN:VEVENT
DTSTART;TZID=Europe/Paris:20240428T000000
DTEND;TZID=Europe/Paris:20240428T235959
DTSTAMP:20260421T224620
CREATED:20231103T155514Z
LAST-MODIFIED:20231103T162400Z
UID:2398-1714262400-1714348799@rsdd.de
SUMMARY:MTB Anfängertour zwischen Ammersee und  Starnberger See
DESCRIPTION:Auf dieser MTB – Anfängertour wollen wir Euch\, den sportlichen Tourenfahrern\, den Einstieg ins Mountainbiken erleichtern. Auf breiten und leicht ansteigenden Forstwegen wollen wir die Natur zwischen Ammersee und Starnberger See erleben.  \n\n\n\n\n\n\n\n\n\n\n\n\n\n\n\n\n\nDie Mittagspause werden wir mit Blick auf Starnberger See und das Voralpenland genießen. Die Endmoräne des Andechser Bergs mit einem Höhenunterschied von 150 hm bietet eine Vielfalt an kleinen Trials zur Erweiterung der Technik bietet. \n\n\n\nDas einzigartige MTB-Erlebnis \n\n\n\nEin Berg ( heiliger Berg von Andechs )\, zwei Seen ( Ammersee Starnberger See ) 650 Höhenmeter und 60 km warten auf Dich: Pure MTB-Emotion inmitten des Voralpenlands mit garantiertem Bergblick. \n\n\n\n\n\n\n\nDetails\n\n\n\n\n\nTourguide:             Dieter Schalk – Tel. 08152 / 96109\, Handy 0170 / 759 59 22Anton Brucklackner – Tel. 08237 / 7673\, Handy 0151 / 594 956 87Tourenart:Leichte Anfänger MountainbiketourSchwierigkeitsgrad FahrtechnikS0 – S1Schwierigkeitsgrad KonditionS2Strecke:60 km 650 hmTreffpunkt:   09.00 Uhr 82346 Frieding\, Parkplatz Hannawies\, Verbindungsstraße Frieding – Kreuzung nach Andechs    
URL:https://rsdd.de/event/mtb-anfaengertour-zwischen-ammersee-und-starnberger-see-3/
LOCATION:Frieding\, Frieding\, 82346\, Deutschland
CATEGORIES:MTB Touren
ATTACH;FMTTYPE=image/png:https://rsdd.de/wp-content/uploads/2021/11/mtb_icon.png
END:VEVENT
END:VCALENDAR