BEGIN:VCALENDAR
VERSION:2.0
PRODID:-//Radsport Dinkelscherben e.V. - ECPv6.15.20//NONSGML v1.0//EN
CALSCALE:GREGORIAN
METHOD:PUBLISH
X-ORIGINAL-URL:https://rsdd.de
X-WR-CALDESC:Veranstaltungen für Radsport Dinkelscherben e.V.
REFRESH-INTERVAL;VALUE=DURATION:PT1H
X-Robots-Tag:noindex
X-PUBLISHED-TTL:PT1H
BEGIN:VTIMEZONE
TZID:Europe/Paris
BEGIN:DAYLIGHT
TZOFFSETFROM:+0100
TZOFFSETTO:+0200
TZNAME:CEST
DTSTART:20230326T010000
END:DAYLIGHT
BEGIN:STANDARD
TZOFFSETFROM:+0200
TZOFFSETTO:+0100
TZNAME:CET
DTSTART:20231029T010000
END:STANDARD
BEGIN:DAYLIGHT
TZOFFSETFROM:+0100
TZOFFSETTO:+0200
TZNAME:CEST
DTSTART:20240331T010000
END:DAYLIGHT
BEGIN:STANDARD
TZOFFSETFROM:+0200
TZOFFSETTO:+0100
TZNAME:CET
DTSTART:20241027T010000
END:STANDARD
BEGIN:DAYLIGHT
TZOFFSETFROM:+0100
TZOFFSETTO:+0200
TZNAME:CEST
DTSTART:20250330T010000
END:DAYLIGHT
BEGIN:STANDARD
TZOFFSETFROM:+0200
TZOFFSETTO:+0100
TZNAME:CET
DTSTART:20251026T010000
END:STANDARD
END:VTIMEZONE
BEGIN:VTIMEZONE
TZID:UTC
BEGIN:STANDARD
TZOFFSETFROM:+0000
TZOFFSETTO:+0000
TZNAME:UTC
DTSTART:20230101T000000
END:STANDARD
END:VTIMEZONE
BEGIN:VEVENT
DTSTART;TZID=Europe/Paris:20240501T090000
DTEND;TZID=Europe/Paris:20240501T160000
DTSTAMP:20260421T212349
CREATED:20231103T155927Z
LAST-MODIFIED:20240430T090829Z
UID:2400-1714554000-1714579200@rsdd.de
SUMMARY:Rennrad Wallfahrt zum Benediktinerkloster nach Irsee
DESCRIPTION:Bei unserer 16.Wallfahrt besuchen wir wieder\, wie vor 12 Jahren bei der sechsten Wallfahrt\, das Benediktiner-Kloster in Irsee nahe Kaufbeuren. \n\n\n\nWir legen los auf bekannten Trainingsstrecken bis Kirchheim. Dort folgen wir ein Stück dem Mindeltalradweg und durchqueren den kompletten Landkreis Unterallgäu in südlicher Richtung. Nun wird es etwas hügeliger bevor wir nach 72 km unser Ziel in Irsee erreichen. Die Gruppe 3 kürzt auf dem Weg nach Irsee etwas und kommt schon nach 63 km dort an. \n\n\n\nIn Irsee entzünden wir im Kloster unsere Vereinskerze. Das Mittagessen nehmen wir anschließend im Gasthof Irseer Klosterbräu ein. \n\n\n\n \n\n\n\n\n\n\n\n\n\n\n\nAuf dem Rückweg folgt die Gruppe 1/2 einem Abschnitt aus unserer früheren Auerberg-Marathon-Strecke bis Ettringen. Nun geht es wieder durch vertrautes Gelände in die Stauden. Gruppe 3 nimmt den etwas direkteren Weg wie auf der Karte in rosa eingezeichnet. Auf beiden Routen bieten sich Möglichkeiten für eine Kaffeepause. \n\n\n\n\n\n\n\n\n\nDie GPX Files zum Download:Gruppe 1/2: https://rsdd.de/wp-content/uploads/2024/04/Wallfahrt-2024-Gr1.gpxGruppe 3: https://rsdd.de/wp-content/uploads/2024/04/Wallfahrt-2024-Gr3.gpx \n\n\n\n\n\n\n\nDetails\n\n\n\n\n\nTourguide:Gerhard WagnerTourenart:mittelschwerAnmeldung:Bitte meldet Euch einige Tage vorher bei Gerhard an.Nur so können wir für ausreichend Tour-Guides garantierenund evtl. auch Tische für ein Mittagessen reservieren!Strecke:Gruppe 1/2: 136 km / 1600 hmGruppe 3   : 125 km / 1200 hmTreffpunkt:09:00 Uhr (Gruppe 1/2)08:45 Uhr (Gruppe 3)Parkplatz Mittelschule Dinkelscherben
URL:https://rsdd.de/event/rennrad-wallfahrt-irsee/
CATEGORIES:Rennradtouren
ATTACH;FMTTYPE=image/png:https://rsdd.de/wp-content/uploads/2021/11/rennrad_icon.png
END:VEVENT
BEGIN:VEVENT
DTSTART;TZID=Europe/Paris:20240508T000000
DTEND;TZID=Europe/Paris:20240512T235959
DTSTAMP:20260421T212349
CREATED:20231103T160956Z
LAST-MODIFIED:20231103T162427Z
UID:2404-1715126400-1715558399@rsdd.de
SUMMARY:Bike & Trail Camp am Lago di Molveno
DESCRIPTION:ENDLOSE FLOW TRAILS UND 360° BLICK VOM ORTLER BIS ZUM GARDASEE AM SONNIGEN LAGO DI MOLVENO. \n\n\n\n\n\n\n\nDas Interesse und die Begeisterung an weiteren Trails mit einem Bike Camps im sonnigen  Süden hat sich die letzten Jahre gesteigert. \n\n\n\nDer Stützpunkt Molveno ist mit seinen Naturwegen \, wunderschönen Singletrails und fantastischen Enduro-Strecken\, die sich zwischen dem Lago di Molveno \, Lago di Toblino und den Brenta-Dolomiten schlängeln\, ein Paradies für Mountainbiker. Unser zentrales Hotel liegt direkt am See.  \n\n\n\n\n\n\n\n\n\n\n\n\n\n\n\n\n\n \n\n\n\nDetails\n\n\n\n\n\nTourguide:Dieter Schalk – Tel. 08152 / 96109\, Handy 0170 / 7595922 Tourenart:mittelschwere MountainbiketourSchwierigkeitsgrad FahrtechnikS1 – S2Schwierigkeitsgrad KonditionS1Treffpunkt:4:30 Uhr P+R Parkplatz Augsburg HammerschmiedeNeuburger Straße / Friedl-Urban-StraßeAnmeldung:info@rsdd.de  oder beim Tourguide bis 22.03.2024Anzahlung erforderlichLeistungen:Fahrt von Augsburg nach Molveno und zurück4 Hotelübernachtung inkl. HPKosten:450 €
URL:https://rsdd.de/event/bike-trail-camp-am-lago-di-molveno/
CATEGORIES:MTB Touren
ATTACH;FMTTYPE=image/png:https://rsdd.de/wp-content/uploads/2021/11/mtb_icon.png
END:VEVENT
BEGIN:VEVENT
DTSTART;TZID=Europe/Paris:20240517T000000
DTEND;TZID=Europe/Paris:20240520T235959
DTSTAMP:20260421T212349
CREATED:20231103T163316Z
LAST-MODIFIED:20231103T163318Z
UID:2419-1715904000-1716249599@rsdd.de
SUMMARY:4-Tages MTB Anfängertour Chiemsee
DESCRIPTION:MTB meets Culture. Das kulturelle MTB Erlebnis. 3 Fahrtage und ein Kulturtag.  \n\n\n\nDer Chiemsee ist der größte bayrische See und wir wollen ihn einmal umrunden.  \n\n\n\n1. Tag mit den öffentlichen zur S-Bahn Station Großhelfendorf im Süden von München– Radtour zum Chiemsee\, 60km\, 300 HM \n\n\n\n2. Tag: Radtour um den Chiemsee\, 60km\, 100 HM  \n\n\n\n3. Tag: Schifffahrt Besichtigung Herrenchiemsee und Fraueninsel\,  \n\n\n\n4. Tag: Radtour über Wasserburg zur S-Bahnstation Ebersberg östlich von München\, 60km\, 300 HM \n\n\n\n \n\n\n\n\n\n\n\nDetails\n\n\n\n\n\nTourguide:Christine Schalk – Tel. 08152 / 96109\, Handy 0176 / 47732179Tourenart:leichte MountainbiketourSchwierigkeitsgrad FahrtechnikS0Schwierigkeitsgrad KonditionS1Strecke:180 km / 700 hmTreffpunkt:12:00 Uhr Großhelfendorf S-BahnstationAnmeldung:info@rsdd.de oder beim Tourguide bis 02.04.2024 wegen     Buchung Hütte und Hotel\, Anzahlung erforderlich.Leistungen:3 Hotelübernachtungen mit Frühstück bei DZ BelegungKosten:300 €
URL:https://rsdd.de/event/4-tages-mtb-anfaengertour-chiemsee/
CATEGORIES:MTB Touren
ATTACH;FMTTYPE=image/png:https://rsdd.de/wp-content/uploads/2021/11/mtb_icon.png
END:VEVENT
BEGIN:VEVENT
DTSTART;TZID=UTC:20240519T000000
DTEND;TZID=UTC:20240519T235959
DTSTAMP:20260421T212349
CREATED:20231103T161528Z
LAST-MODIFIED:20231103T180850Z
UID:2412-1716076800-1716163199@rsdd.de
SUMMARY:Festumzug Musikvereinigung Dinkelscherben
DESCRIPTION:Liebe Vereinsmitglieder\, \n\n\n\nam 19.05.2024 findet von der Musikvereinigung Dinkelscherben e.V. ein Festumzug statt zu dem wir eingeladen wurden und an dem wir natürlich auch gerne teilnehmen. \n\n\n\nWeitere Details folgen noch. \n\n\n\nDie Vorstandschaft
URL:https://rsdd.de/event/festumzug-musikvereinigung-dinkelscherben/
CATEGORIES:Ausflug
ATTACH;FMTTYPE=image/jpeg:https://rsdd.de/wp-content/uploads/2022/11/Logo_Velopac_ohne_Text.jpg
END:VEVENT
BEGIN:VEVENT
DTSTART;TZID=Europe/Paris:20240530T000000
DTEND;TZID=Europe/Paris:20240602T235959
DTSTAMP:20260421T212349
CREATED:20231103T162159Z
LAST-MODIFIED:20231105T160536Z
UID:2414-1717027200-1717372799@rsdd.de
SUMMARY:Rennrad Giro Salzburger Land
DESCRIPTION:Die Rennradregion Salzburger Land ist ein Geheimtipp für jeden Rennradfahrer. Touren entlang tiefblauer Seen und Flüsse\, hochalpinen Pässen und kurvenreiche Bergstraßen.  \n\n\n\nDie perfekte Ausgangslage für abwechslungsreiche Touren im Salzkammergut. \n\n\n\nUnsere Unterkunft das 4 Sterne Hotel Jakob liegt im Zentrum der Ortschaft Fuschl am See\, vor den Toren der Stadt Salzburg (20 km). Das Hotel bietet einen Wellnessbereich und einen eigenen Badestrand am Fuschlsee. \n\n\n\n \n\n\n\n\n\n\n\nDetails\n\n\n\n\n\nTourguides:Joachim GlinkGerhard WagnerTourenart:Touren in allen Schwierigkeitsgraden Je nach Teilnehmerzahl 2-3 Gruppen pro TagAnmeldung:gerhard@rsdd.debis 01.04.2024Leistungen:4-Sterne Hotel inkl. Frühstückgeführte Touren in 2-3 Gruppen je nach TeilnehmerzahlAnfahrt in privaten FahrgemeinschaftenKosten:260\,- p/P (DZ)305\,- (EZ)
URL:https://rsdd.de/event/rennrad-giro-fuschl-am-see/
CATEGORIES:Rennradtouren
ATTACH;FMTTYPE=image/png:https://rsdd.de/wp-content/uploads/2021/11/rennrad_icon.png
END:VEVENT
END:VCALENDAR