BEGIN:VCALENDAR
VERSION:2.0
PRODID:-//Radsport Dinkelscherben e.V. - ECPv6.15.20//NONSGML v1.0//EN
CALSCALE:GREGORIAN
METHOD:PUBLISH
X-WR-CALNAME:Radsport Dinkelscherben e.V.
X-ORIGINAL-URL:https://rsdd.de
X-WR-CALDESC:Veranstaltungen für Radsport Dinkelscherben e.V.
REFRESH-INTERVAL;VALUE=DURATION:PT1H
X-Robots-Tag:noindex
X-PUBLISHED-TTL:PT1H
BEGIN:VTIMEZONE
TZID:Europe/Paris
BEGIN:DAYLIGHT
TZOFFSETFROM:+0100
TZOFFSETTO:+0200
TZNAME:CEST
DTSTART:20230326T010000
END:DAYLIGHT
BEGIN:STANDARD
TZOFFSETFROM:+0200
TZOFFSETTO:+0100
TZNAME:CET
DTSTART:20231029T010000
END:STANDARD
BEGIN:DAYLIGHT
TZOFFSETFROM:+0100
TZOFFSETTO:+0200
TZNAME:CEST
DTSTART:20240331T010000
END:DAYLIGHT
BEGIN:STANDARD
TZOFFSETFROM:+0200
TZOFFSETTO:+0100
TZNAME:CET
DTSTART:20241027T010000
END:STANDARD
BEGIN:DAYLIGHT
TZOFFSETFROM:+0100
TZOFFSETTO:+0200
TZNAME:CEST
DTSTART:20250330T010000
END:DAYLIGHT
BEGIN:STANDARD
TZOFFSETFROM:+0200
TZOFFSETTO:+0100
TZNAME:CET
DTSTART:20251026T010000
END:STANDARD
END:VTIMEZONE
BEGIN:VEVENT
DTSTART;TZID=Europe/Paris:20240714T000000
DTEND;TZID=Europe/Paris:20240714T235959
DTSTAMP:20260421T182402
CREATED:20231103T174158Z
LAST-MODIFIED:20231103T174159Z
UID:2429-1720915200-1721001599@rsdd.de
SUMMARY:Auf versteckten Trails und Almen zwischen Pfronten und Tannheimer Tal
DESCRIPTION:Unsere heutige MTB Tagestour führt uns ins Mekka der Biker. Die Berge und Täler rund um Pfronten bieten MTB-Touren für jeden Anspruch. \n\n\n\n\n\n Ein absolutes Highlight ist Pfrontens ganzjährig markierte Mountainbike-Marathonstrecke Kondition ist gefordert\, denn es müssen immerhin 1.900 Höhenmeter überwunden werden. Wir werden die Marathonstrecke zu einer Tour Flow unter die Stollen nehmen und somit Zeit für den Genuss zu haben . Dafür bieten sich immer wieder atemberaubende Ausblicke\, tolle Abfahrten und knackige Anstiege.  \n\n\n\n\n\n\n\n\n\n\n\nAbwechslung und unvergessliche Natureindrücke sind garantiert. Oben auf dem Breitenberg oder dem Edelsberg angekommen\, werden wir mit einem 360 ° Panorama zu Brotzeit und einem kühlen Getränken in einer der vielen Allgäuer Berghütten belohnt. \n\n\n\n \n\n\n\n\n\n\n\nDetails\n\n\n\n\n\nTourguide:Dieter Schalk – Tel. 08152 / 96109\, Handy 0170 / 759 59 22Anton Brucklackner – Tel. 08237 / 7673\, Handy 0151 / 594 956 87Tourenart:mittelschwere Mountainbiketour Schwierigkeitsgrad FahrtechnikS1Schwierigkeitsgrad KonditionS2Strecke:65km / 1850hmTreffpunkt:06:00 Uhr  P+R Parkplatz Augsburg HammerschmiedeNeuburger Straße / Friedl-Urban-Straße8.00 Uhr Parkplatz Breitenbergbahn\, PfrontenAnmeldung:info@rsdd.de bis 08.07.2024
URL:https://rsdd.de/event/auf-versteckten-trails-und-almen-zwischen-pfronten-und-tannheimer-tal/
CATEGORIES:MTB Touren
ATTACH;FMTTYPE=image/png:https://rsdd.de/wp-content/uploads/2021/11/mtb_icon.png
END:VEVENT
END:VCALENDAR