BEGIN:VCALENDAR
VERSION:2.0
PRODID:-//Radsport Dinkelscherben e.V. - ECPv6.15.20//NONSGML v1.0//EN
CALSCALE:GREGORIAN
METHOD:PUBLISH
X-WR-CALNAME:Radsport Dinkelscherben e.V.
X-ORIGINAL-URL:https://rsdd.de
X-WR-CALDESC:Veranstaltungen für Radsport Dinkelscherben e.V.
REFRESH-INTERVAL;VALUE=DURATION:PT1H
X-Robots-Tag:noindex
X-PUBLISHED-TTL:PT1H
BEGIN:VTIMEZONE
TZID:Europe/Paris
BEGIN:DAYLIGHT
TZOFFSETFROM:+0100
TZOFFSETTO:+0200
TZNAME:CEST
DTSTART:20230326T010000
END:DAYLIGHT
BEGIN:STANDARD
TZOFFSETFROM:+0200
TZOFFSETTO:+0100
TZNAME:CET
DTSTART:20231029T010000
END:STANDARD
BEGIN:DAYLIGHT
TZOFFSETFROM:+0100
TZOFFSETTO:+0200
TZNAME:CEST
DTSTART:20240331T010000
END:DAYLIGHT
BEGIN:STANDARD
TZOFFSETFROM:+0200
TZOFFSETTO:+0100
TZNAME:CET
DTSTART:20241027T010000
END:STANDARD
BEGIN:DAYLIGHT
TZOFFSETFROM:+0100
TZOFFSETTO:+0200
TZNAME:CEST
DTSTART:20250330T010000
END:DAYLIGHT
BEGIN:STANDARD
TZOFFSETFROM:+0200
TZOFFSETTO:+0100
TZNAME:CET
DTSTART:20251026T010000
END:STANDARD
END:VTIMEZONE
BEGIN:VEVENT
DTSTART;TZID=Europe/Paris:20240810T000000
DTEND;TZID=Europe/Paris:20240818T235959
DTSTAMP:20260421T170158
CREATED:20231103T175558Z
LAST-MODIFIED:20231105T132430Z
UID:2437-1723248000-1724025599@rsdd.de
SUMMARY:20 Jahre RSDD Transalp von Mals nach Riva
DESCRIPTION:In 20 Jahren Transalp haben wir viel erlebt. Von 40 °C plus in Slowenien\, 3 Tage Dauerregen\, Bachdurchquerungen im knietiefen Wasser und 5 °C minus mit Schneefall… \n\n\n\nDie schönsten Erlebnisse haben wir aber bei weiß blauem Himmel in den Tälern der Westalpen erlebt. \n\n\n\nIm Jahr 2024 steht eine klassische Transalp mit den schönsten Hotspots der Westalpen mit Ziel in Riva auf dem Programm. Wir starten in Mals im Vinschgau und werden die entlegensten Alpentäler und auf den klassischen Hütten übernachten. \n\n\n\nUnsere Etappenziele sind: Riff. Fraele\, Riff. Pizzini\, Ospizio La Mirandola\, Riff. Graffer\, Riff Croz dell Altissimo\, Riva \n\n\n\nDurch die klassische Übernachtung am Berg \, ist am nächsten Morgen der Flow garantiert. \n\n\n\n\n\n\n\n\n\n\n\n\n\n\n\n\n\nDas einzigartige MTB-Erlebnis in 2 Leistungsgruppen. \n\n\n\nDrei Länder\, endlose Gipfel\, 16.750 / 20200 Höhenmeter warten auf Dich: 490 / 520 km pure MTB- Emotion entlang der alten Militärstraßen\, unbekannte Trails\, alte Saumpfade sind die Highlights der Transalp Mals nach Riva \n\n\n\n\n\n\n\nDetails\n\n\n\n\n\nTourguide:Dieter Schalk – Tel. 08152 / 96109\, Handy 0170 / 759 59 22Tourenart:mittelschwere MountainbiketourSchwierigkeitsgrad FahrtechnikS2Schwierigkeitsgrad KonditionS1 – S2Strecke:490 km / 16.750 hm520 km / 20.200 hmTreffpunkt:05:00 Uhr P+R Parkplatz Augsburg HammerschmiedeNeuburger Straße / Friedl-Urban-Straße05.00 Uhr 82346 Frieding\, Herrschinger Str. 44 ( Blockhaus )Anmeldung:info@rsdd.de  oder beim Tourguide bis 15.04.2024 wegen    Buchung der Hütten und HotelsLeistungen:Fahrt von Augsburg/Frieding nach Mals und zurückRücktransfer von Riva nach Mals3 Hotelübernachtungen inkl. ÜF5 Hüttenübernachtungen inkl. HPKosten:800 €
URL:https://rsdd.de/event/20-jahre-rsdd-transalp-von-mals-nach-riva/
CATEGORIES:MTB Touren
ATTACH;FMTTYPE=image/png:https://rsdd.de/wp-content/uploads/2021/11/mtb_icon.png
END:VEVENT
BEGIN:VEVENT
DTSTART;TZID=Europe/Paris:20240811T000000
DTEND;TZID=Europe/Paris:20240811T235959
DTSTAMP:20260421T170158
CREATED:20231103T174702Z
LAST-MODIFIED:20240808T045747Z
UID:2431-1723334400-1723420799@rsdd.de
SUMMARY:Allgäu Runde ab Bad Wörishofen
DESCRIPTION:Wir starten zu unserer Allgäurunde um 9:45 Uhr in Bad Wörishofen auf dem Lidl Parkplatz (Kirchdorfer Str 77) am nördlichen Stadtrand. \n\n\n\n \n\n\n\nWie ihr an den unterschiedlichen Streckenlängen (siehe Details unten) erkennen könnt\, ist die Tour ideal für eine große Auswahl an unterschiedlich langen Touren. Die eingezeichnete Standardtour\, die wir im Uhrzeigersinn fahren\, hat eine Länge von 116 km.  \n\n\n\n\n\n\n\n\n\n\n\nWer dies verlängern möchte hat mit der Anreise per Rennrad von Dinkelscherben noch zusätzliche 46\, also 162 km wenn sich eine Mitfahrgelegenheit für die Heimreise ergibt. Wer mit dem Rad nach Bad Wörishofen hin- und zurückfährt\, darf sich danach mit 208 km als Marathonfahrer bezeichnen. Außerdem gäbe es in Absprache mit dem Tourguide auch noch mehrere Möglichkeiten die Tour zu verkürzen. \n\n\n\n \n\n\n\nWir durchqueren das komplette Wörishofen von Nord nach Süd und gelangen über einen Waldweg nach Harthental. Von da an geht es fast genau südlich\, auf stets abgelegenen ruhigen Wegen bis zum höchsten und südlichsten Punkt in Hochgreuth bei km 45.  \n\n\n\nNun ist es nicht mehr weit zur Mittagspause in Obergünzburg bei km 60.  \n\n\n\nWir überqueren danach einen Höhenzug zwischen Iller und Günz und passieren Ottobeuren knapp westlich mit einem herrlichen Ausblick auf die Stadt. \n\n\n\n \n\n\n\n  \n\n\n\n\n\nFür den Nachmittagskaffee bietet sich das Ziel in Bad Wörishofen an bevor wir die Heimreise mit dem Auto oder voraussichtlich manche mit dem Rad antreten. \n\n\n\n\n\n\n\nDetails\n\n\n\n\n\nTourguide:Joachim GlinkGerhard WagnerTourenart:mittelschwere RennradtourStrecke:206 km161 km116 km95 kmTreffpunkt:9:45 Abfahrt Lidl Parkplatz Bad WörishofenAnmeldung:unverbindliche Anmeldung unter joachim@rsdd.de
URL:https://rsdd.de/event/allgaeu-runde-ab-bad-woerishofen/
CATEGORIES:Rennradtouren
ATTACH;FMTTYPE=image/png:https://rsdd.de/wp-content/uploads/2021/11/rennrad_icon.png
END:VEVENT
END:VCALENDAR