BEGIN:VCALENDAR
VERSION:2.0
PRODID:-//Radsport Dinkelscherben e.V. - ECPv6.15.20//NONSGML v1.0//EN
CALSCALE:GREGORIAN
METHOD:PUBLISH
X-WR-CALNAME:Radsport Dinkelscherben e.V.
X-ORIGINAL-URL:https://rsdd.de
X-WR-CALDESC:Veranstaltungen für Radsport Dinkelscherben e.V.
REFRESH-INTERVAL;VALUE=DURATION:PT1H
X-Robots-Tag:noindex
X-PUBLISHED-TTL:PT1H
BEGIN:VTIMEZONE
TZID:Europe/Paris
BEGIN:DAYLIGHT
TZOFFSETFROM:+0100
TZOFFSETTO:+0200
TZNAME:CEST
DTSTART:20230326T010000
END:DAYLIGHT
BEGIN:STANDARD
TZOFFSETFROM:+0200
TZOFFSETTO:+0100
TZNAME:CET
DTSTART:20231029T010000
END:STANDARD
BEGIN:DAYLIGHT
TZOFFSETFROM:+0100
TZOFFSETTO:+0200
TZNAME:CEST
DTSTART:20240331T010000
END:DAYLIGHT
BEGIN:STANDARD
TZOFFSETFROM:+0200
TZOFFSETTO:+0100
TZNAME:CET
DTSTART:20241027T010000
END:STANDARD
BEGIN:DAYLIGHT
TZOFFSETFROM:+0100
TZOFFSETTO:+0200
TZNAME:CEST
DTSTART:20250330T010000
END:DAYLIGHT
BEGIN:STANDARD
TZOFFSETFROM:+0200
TZOFFSETTO:+0100
TZNAME:CET
DTSTART:20251026T010000
END:STANDARD
END:VTIMEZONE
BEGIN:VEVENT
DTSTART;TZID=Europe/Paris:20240907T170000
DTEND;TZID=Europe/Paris:20240907T233000
DTSTAMP:20260421T152349
CREATED:20240608T145745Z
LAST-MODIFIED:20240819T062630Z
UID:2810-1725728400-1725751800@rsdd.de
SUMMARY:RSDD Sommerfest
DESCRIPTION:Der RSDD feiert sein 20 jähriges Bestehen. \n\n\n\nDies wollen wir mit Euch bei einem gemütlichen Sommerfest am Sportplatz Dinkelscherben (bei den Stockschützen) feiern. \n\n\n\nFür das leibliche Wohl ist bei Getränken\, Pizza sowie Kaffee und Kuchen bestens gesorgt.(Essen und Getränke auf Selbstkostenbasis.) \n\n\n\nIn den vergangenen 20 Jahren gab es natürlich sehr sehr viele Touren\, Veranstaltungen und Erlebnisse; von unseren RTFs\, den Giros und MTB Trans-Alps. All dies ist natürlich einen kleinen Rückblick wert.
URL:https://rsdd.de/event/rsdd-sommerfest/
CATEGORIES:Mitgliederabend
ATTACH;FMTTYPE=image/png:https://rsdd.de/wp-content/uploads/2024/06/RSDD_Jubilaeum.png
END:VEVENT
END:VCALENDAR