BEGIN:VCALENDAR
VERSION:2.0
PRODID:-//Radsport Dinkelscherben e.V. - ECPv6.15.20//NONSGML v1.0//EN
CALSCALE:GREGORIAN
METHOD:PUBLISH
X-ORIGINAL-URL:https://rsdd.de
X-WR-CALDESC:Veranstaltungen für Radsport Dinkelscherben e.V.
REFRESH-INTERVAL;VALUE=DURATION:PT1H
X-Robots-Tag:noindex
X-PUBLISHED-TTL:PT1H
BEGIN:VTIMEZONE
TZID:Europe/Paris
BEGIN:DAYLIGHT
TZOFFSETFROM:+0100
TZOFFSETTO:+0200
TZNAME:CEST
DTSTART:20230326T010000
END:DAYLIGHT
BEGIN:STANDARD
TZOFFSETFROM:+0200
TZOFFSETTO:+0100
TZNAME:CET
DTSTART:20231029T010000
END:STANDARD
BEGIN:DAYLIGHT
TZOFFSETFROM:+0100
TZOFFSETTO:+0200
TZNAME:CEST
DTSTART:20240331T010000
END:DAYLIGHT
BEGIN:STANDARD
TZOFFSETFROM:+0200
TZOFFSETTO:+0100
TZNAME:CET
DTSTART:20241027T010000
END:STANDARD
BEGIN:DAYLIGHT
TZOFFSETFROM:+0100
TZOFFSETTO:+0200
TZNAME:CEST
DTSTART:20250330T010000
END:DAYLIGHT
BEGIN:STANDARD
TZOFFSETFROM:+0200
TZOFFSETTO:+0100
TZNAME:CET
DTSTART:20251026T010000
END:STANDARD
END:VTIMEZONE
BEGIN:VTIMEZONE
TZID:UTC
BEGIN:STANDARD
TZOFFSETFROM:+0000
TZOFFSETTO:+0000
TZNAME:UTC
DTSTART:20230101T000000
END:STANDARD
END:VTIMEZONE
BEGIN:VEVENT
DTSTART;TZID=Europe/Paris:20241003T000000
DTEND;TZID=Europe/Paris:20241003T235959
DTSTAMP:20260421T135434
CREATED:20231103T180738Z
LAST-MODIFIED:20231103T180739Z
UID:2445-1727913600-1727999999@rsdd.de
SUMMARY:Rennrad Abschlussfahrt
DESCRIPTION:Traditionell am Tag der Deutschen Einheit starten wir zu unserer letzten längeren Tour im RSDD Kalender. \n\n\n\nDie Strecken werden kurzfristig per Mail und auf unserer News Seite bekannt gegeben. \n\n\n\n\n\n\n\nDetails\n\n\n\n\n\nTourguide:Joachim GlinkGerhard WagnerTourenart:mittelschwere RennradtourStrecke:Treffpunkt:10 Uhr Schulparkplatz DinkelscherbenAnmeldung:unverbindliche Anmeldung unter gerhard@rsdd.de
URL:https://rsdd.de/event/rennrad-abschlussfahrt-3/
CATEGORIES:Rennradtouren
ATTACH;FMTTYPE=image/png:https://rsdd.de/wp-content/uploads/2021/11/rennrad_icon.png
END:VEVENT
BEGIN:VEVENT
DTSTART;TZID=Europe/Paris:20241013T000000
DTEND;TZID=Europe/Paris:20241013T235959
DTSTAMP:20260421T135434
CREATED:20231103T175917Z
LAST-MODIFIED:20231103T175919Z
UID:2439-1728777600-1728863999@rsdd.de
SUMMARY:Tages MTB Tour von Ehrwald um die Mieminger Kette
DESCRIPTION:Die Königstour im Fernpaß-Gebiet ist mit Sicherheit die Umrundung der gesamten Mieminger Kette.  \n\n\n\nNach der teilweisen steilen Auffahrt zur Ehrwalder Alm tauchen wir dann ins Gaistal ein. Zwischen den grandiosen Felszacken von Wetterstein und Mieminger Kette saust man mühelos bis hinaus in die Leutasch. Weitere Höhepunkte der Runde sind die Fahrt durchs Katzenloch\, der Trial hinunter ins Kochental und das Sonnenplateau zu Füßen der Mieminger Kette.  \n\n\n\n\n\n\n\n\n\n\n\nAuf dem alten Fernpassweg wo schon Haniball mit seinen Elefanten waren sind nun die Mountainbiker unterwegs. Von der Passhöhe geht’s dann über den Lärchenwald von Biberwier wieder zurück nach Ehrwald. \n\n\n\n\n\nEin Gebirgsmassiv\, endloses Gipfelpanorama\, 1.800 Höhenmeter warten auf Dich: 75 km pure MTB-Emotion inmitten der endlosen Berge des Karwendels. \n\n\n\n \n\n\n\n \n\n\n\n\n\n\n\nDetails\n\n\n\n\n\nTourguide:Dieter Schalk – Tel. 08152 / 96109\, Handy 0170 / 759 59 22Anton Brucklackner – Tel. 08237 / 7673\, Handy 0151 / 594 956 87Tourenart:mittelschwere MountainbiketourSchwierigkeitsgrad FahrtechnikS1Schwierigkeitsgrad KonditionS3Strecke:75 km / 1800 hmTreffpunkt:06:00 Uhr P+R Parkplatz Augsburg HammerschmiedeNeuburger Straße / Friedl-Urban-Straße08.00 Uhr Parkplatz Ehrwalder AlmbahnAnmeldung:dieter@rsdd.de
URL:https://rsdd.de/event/tages-mtb-tour-von-ehrwald-um-die-mieminger-kette/
CATEGORIES:MTB Touren
ATTACH;FMTTYPE=image/png:https://rsdd.de/wp-content/uploads/2021/11/mtb_icon.png
END:VEVENT
BEGIN:VEVENT
DTSTART;TZID=UTC:20241019T170000
DTEND;TZID=UTC:20241019T200000
DTSTAMP:20260421T135434
CREATED:20231103T180147Z
LAST-MODIFIED:20231103T180152Z
UID:2441-1729357200-1729368000@rsdd.de
SUMMARY:Vereinsausflug 2024
DESCRIPTION:Details folgen… \n\n\n\n\n\n\n\nDetails\n\n\n\n\n\nTourguide:Anmeldung:
URL:https://rsdd.de/event/vereinsausflug-2024/
CATEGORIES:Ausflug
ATTACH;FMTTYPE=image/jpeg:https://rsdd.de/wp-content/uploads/2022/11/Logo_Velopac_ohne_Text.jpg
END:VEVENT
END:VCALENDAR