BEGIN:VCALENDAR
VERSION:2.0
PRODID:-//Radsport Dinkelscherben e.V. - ECPv6.15.20//NONSGML v1.0//EN
CALSCALE:GREGORIAN
METHOD:PUBLISH
X-ORIGINAL-URL:https://rsdd.de
X-WR-CALDESC:Veranstaltungen für Radsport Dinkelscherben e.V.
REFRESH-INTERVAL;VALUE=DURATION:PT1H
X-Robots-Tag:noindex
X-PUBLISHED-TTL:PT1H
BEGIN:VTIMEZONE
TZID:UTC
BEGIN:STANDARD
TZOFFSETFROM:+0000
TZOFFSETTO:+0000
TZNAME:UTC
DTSTART:20240101T000000
END:STANDARD
END:VTIMEZONE
BEGIN:VEVENT
DTSTART;TZID=UTC:20250315T133000
DTEND;TZID=UTC:20250315T235900
DTSTAMP:20260421T065646
CREATED:20241123T121331Z
LAST-MODIFIED:20241123T122625Z
UID:3125-1742045400-1742083140@rsdd.de
SUMMARY:Auftakt Rennrad Training 2025
DESCRIPTION:Es ist wieder soweit! Unser regelmäßiges Rennrad Training startet wieder. \n\n\n\nBeginnend mit dem 15.03.2025 starten wir wieder unsere Rennrad Trainings.Vorerst nur Samstags und ab dem 09.04.2025 dann auch wieder Mittwochs. \n\n\n\n\n\n\n\nUnsere Trainingszeiten bleiben nahezu unverändert. Samstags starten wir um 13:30 Uhr\, Mittwochs um 17:45 Uhr.Nur das Training für Gruppe 3 wurde von Donnerstag auf Mittwoch verlegt. \n\n\n\nDie Streckenpläne findet Ihr unter Rennrad Trainings. \n\n\n\nAuf ein kilometerreiches und vor allem unfallfreies Jahr mit vielen schönen und sicher auch einmal anstrengenden Trainingsfahrten. \n\n\n\nEuer RSDD
URL:https://rsdd.de/event/auftakt-rennrad-training-2025/
CATEGORIES:Rennradtouren
ATTACH;FMTTYPE=image/png:https://rsdd.de/wp-content/uploads/2021/11/rennrad_icon.png
END:VEVENT
BEGIN:VEVENT
DTSTART;TZID=UTC:20250329T000000
DTEND;TZID=UTC:20250405T235959
DTSTAMP:20260421T065646
CREATED:20241123T121524Z
LAST-MODIFIED:20241123T122653Z
UID:3127-1743206400-1743897599@rsdd.de
SUMMARY:Rennrad Trainingslager Mallorca 2025
DESCRIPTION:„Ein Frühjahr ohne Mallorca? Für Rennradfahrer fast undenkbar.Und so zieht es auch uns in 2025 wieder auf die Radsport-Insel schlechthin. \n\n\n\nWie auch schon in den letzten Jahren haben wir mit Mallorca Aktiv / Hürzeler einen bewährten Reisepartner für unsere erste Radsportwoche des Jahres. \n\n\n\nUm etwas Abwechslung in unsere Mallorca Aufenthalte zu bringen haben wir uns dieses Mal aber nicht für „den Norden“ mit Playa de Muro / Alcudia entschieden sondern schlagen unsere Zelte im Süd-Westen in Paguera auf. \n\n\n\nIm ****Universal Hotel Lido Park & Spa sind wir erhöht zwischen zwei Sandbuchten untergebracht von wo Treppen zum Strand führen. \n\n\n\nDurch die süd-westliche Lage werden unsere Touren etwas bergiger als gewohnt ausfallen. \n\n\n\nDafür können wir eine andere Ecke von Mallorca besser kennenlernen und viele Abschnitte des Küstenklassikers unter die Räder nehmen. \n\n\n\nWir wünschen allen Teilnehmerinnen und Teilnehmer eine unfallfreie Fahrt und einen traumhaften Radurlaub unter der Sonne Mallorcas.
URL:https://rsdd.de/event/rennrad-trainingslager-mallorca-2025-2/
CATEGORIES:Rennradtouren
ATTACH;FMTTYPE=image/png:https://rsdd.de/wp-content/uploads/2021/11/rennrad_icon.png
END:VEVENT
END:VCALENDAR