BEGIN:VCALENDAR
VERSION:2.0
PRODID:-//Radsport Dinkelscherben e.V. - ECPv6.15.20//NONSGML v1.0//EN
CALSCALE:GREGORIAN
METHOD:PUBLISH
X-ORIGINAL-URL:https://rsdd.de
X-WR-CALDESC:Veranstaltungen für Radsport Dinkelscherben e.V.
REFRESH-INTERVAL;VALUE=DURATION:PT1H
X-Robots-Tag:noindex
X-PUBLISHED-TTL:PT1H
BEGIN:VTIMEZONE
TZID:UTC
BEGIN:STANDARD
TZOFFSETFROM:+0000
TZOFFSETTO:+0000
TZNAME:UTC
DTSTART:20250101T000000
END:STANDARD
END:VTIMEZONE
BEGIN:VEVENT
DTSTART;TZID=UTC:20260712T093000
DTEND;TZID=UTC:20260712T160000
DTSTAMP:20260420T161715
CREATED:20251116T085538Z
LAST-MODIFIED:20251117T055250Z
UID:4041-1783848600-1783872000@rsdd.de
SUMMARY:Rennrad Tagestour Grünten (Allgäu)
DESCRIPTION:Rund um den Grünten – Allgäuer Panoramarunde ab Kaufbeuren. \n\n\n\nUnsere abwechslungsreiche Rennrad-Tour startet in der Nähe von Kaufbeuren (Anreise per Auto) und führt dann durch das malerische Allgäu bis zum markanten Grünten\, dem sogenannten „Wächter des Allgäus“. \n\n\n\nAuf ruhigen\, meist verkehrsarmen Nebenstraßen geht es durch idyllische Dörfer\, saftige Wiesen und sanfte Hügel – stets begleitet von beeindruckenden Alpenpanoramen. \n\n\n\nDer Grünten rückt dabei Kilometer für Kilometer näher\, bis er schließlich umrundet wird. Dabei eröffnen sich immer wieder neue Perspektiven auf den 1.738 Meter hohen Berg und die umliegende Voralpenlandschaft. Nach der Umrundung des Grüntens führt die Strecke auf verschlungenen Wegen zurück nach Kaufbeuren – mit vielen kleinen Anstiegen\, schnellen Abfahrten und herrlichen Ausblicken im Gepäck. \n\n\n\n\n\n\n\n\n\n\n\n\n\n\n\n\n\n\n\n\n\n\n\n\n\n\n\nStrecke Gruppe 1 \n\n\n\n\n\n\n\n\n\nStrecke Gruppe 1 \n\n\n\n\n\n\n\n\n\nDetails\n\n\n\n\n\nTour-Guides:Martin Klemmer (martin@rsdd.de)Tourenart:bergigStrecken:ca. 120 – 150 kmLeistungen:Anfahrt in privaten FahrgemeinschaftenStartort:Kaufbeuren(genauer Standort wird noch bekannt gegeben)
URL:https://rsdd.de/event/rennrad-tagestour-gruenten-allgaeu/
CATEGORIES:Rennradtouren
ATTACH;FMTTYPE=image/png:https://rsdd.de/wp-content/uploads/2021/11/rennrad_icon.png
END:VEVENT
END:VCALENDAR