BEGIN:VCALENDAR
VERSION:2.0
PRODID:-//Radsport Dinkelscherben e.V. - ECPv6.15.20//NONSGML v1.0//EN
CALSCALE:GREGORIAN
METHOD:PUBLISH
X-WR-CALNAME:Radsport Dinkelscherben e.V.
X-ORIGINAL-URL:https://rsdd.de
X-WR-CALDESC:Veranstaltungen für Radsport Dinkelscherben e.V.
REFRESH-INTERVAL;VALUE=DURATION:PT1H
X-Robots-Tag:noindex
X-PUBLISHED-TTL:PT1H
BEGIN:VTIMEZONE
TZID:UTC
BEGIN:STANDARD
TZOFFSETFROM:+0000
TZOFFSETTO:+0000
TZNAME:UTC
DTSTART:20250101T000000
END:STANDARD
END:VTIMEZONE
BEGIN:VEVENT
DTSTART;TZID=UTC:20260920T090000
DTEND;TZID=UTC:20260920T160000
DTSTAMP:20260420T191912
CREATED:20251116T085912Z
LAST-MODIFIED:20251116T085915Z
UID:4048-1789894800-1789920000@rsdd.de
SUMMARY:MTB Tour
DESCRIPTION:Details folgen… \n\n\n\n\n\n\n\n\n\n\n\n\n\n\n\n\n\n\n\nDetails\n\n\n\n\n\nTourguide:Anton (anton@rsdd.de)Tourenart:???Schwierigkeitsgrad Fahrtechnik???Schwierigkeitsgrad Kondition???Strecke:???Anmeldeschluss???
URL:https://rsdd.de/event/mtb-tour-2/
CATEGORIES:MTB Touren
ATTACH;FMTTYPE=image/png:https://rsdd.de/wp-content/uploads/2021/11/mtb_icon.png
END:VEVENT
END:VCALENDAR