BEGIN:VCALENDAR
VERSION:2.0
PRODID:-//Radsport Dinkelscherben e.V. - ECPv6.15.20//NONSGML v1.0//EN
CALSCALE:GREGORIAN
METHOD:PUBLISH
X-ORIGINAL-URL:https://rsdd.de
X-WR-CALDESC:Veranstaltungen für Radsport Dinkelscherben e.V.
REFRESH-INTERVAL;VALUE=DURATION:PT1H
X-Robots-Tag:noindex
X-PUBLISHED-TTL:PT1H
BEGIN:VTIMEZONE
TZID:UTC
BEGIN:STANDARD
TZOFFSETFROM:+0000
TZOFFSETTO:+0000
TZNAME:UTC
DTSTART:20250101T000000
END:STANDARD
END:VTIMEZONE
BEGIN:VEVENT
DTSTART;TZID=UTC:20260426T100000
DTEND;TZID=UTC:20260426T160000
DTSTAMP:20260420T122134
CREATED:20251116T072309Z
LAST-MODIFIED:20251201T084752Z
UID:4024-1777197600-1777219200@rsdd.de
SUMMARY:MTB Anfängertour
DESCRIPTION:Liebe Mountainbike-Anfänger und Einsteiger. \n\n\n\nWir laden Euch herzliche ein zu einer spannenden MTB -Anfängertour rund um Dinkelscherben ein. Die Tour ist perfekt für alle\, die neu im Mountainbike einsteigen oder hineinschnuppern wollen. \n\n\n\nIm ersten Schritt beginnen wir mit einer kurzen Einführung in die Technik des Mountainbikens. \n\n\n\n\nrichtige Sitzposition\n\n\n\nwie wird gebremst\n\n\n\nwie werden Kurven gefahren\n\n\n\nanfahren am Berg\n\n\n\n\nIm Anschluss fahren wir eine Runde (30-60 km) in Abhängigkeit der Teilnehmenden. \n\n\n\nWas müsst Ihr mitbringen: \n\n\n\n\nein funktionstüchtiges Mountainbike oder Gravelbike\n\n\n\neinen Helm\n\n\n\nwettergerechte Kleidung\n\n\n\nausreichend Wasser und Snacks für unterwegs\n\n\n\n\n\n\n\n\n\n\nDetails\n\n\n\n\n\nTourguide:Anton (anton@rsdd.de)Tourenart:leichte MountainbiketourSchwierigkeitsgrad FahrtechnikS0Schwierigkeitsgrad KonditionS1Strecke:ca. 30 kmTreffpunkt:wird noch bekannt gegebenAnmeldung:bis 19.04.2026
URL:https://rsdd.de/event/mtb-anfaengertour/
CATEGORIES:MTB Touren
ATTACH;FMTTYPE=image/png:https://rsdd.de/wp-content/uploads/2021/11/mtb_icon.png
END:VEVENT
END:VCALENDAR