BEGIN:VCALENDAR
VERSION:2.0
PRODID:spatie/icalendar-generator
DESCRIPTION:Veranstaltungen von Radsport Dinkelscherben e.V.
X-WR-CALDESC:Veranstaltungen von Radsport Dinkelscherben e.V.
REFRESH-INTERVAL;VALUE=DURATION:PT1440M
X-PUBLISHED-TTL:PT1440M
BEGIN:VTIMEZONE
TZID:Etc/GMT-1
BEGIN:STANDARD
DTSTART:20250819T000000Z
TZOFFSETFROM:+0100
TZOFFSETTO:+0100
END:STANDARD
END:VTIMEZONE
BEGIN:VTIMEZONE
TZID:UTC
BEGIN:STANDARD
DTSTART:20250726T101707Z
TZOFFSETFROM:+0000
TZOFFSETTO:+0000
END:STANDARD
END:VTIMEZONE
BEGIN:VEVENT
UID:276-21
DTSTAMP:20260422T101707Z
SUMMARY:Gablingen
LOCATION:
ORGANIZER;CN=RSDD:MAILTO:joachim@rsdd.de
DTSTART;TZID=Etc/GMT-1;VALUE=DATE:20260516
DTEND;TZID=Etc/GMT-1;VALUE=DATE:20260517
X-ALT-DESC;FMTTYPE=TEXT/HTML:Download GPX
CATEGORIES:Rennrad Training
URL;VALUE=URI:https://rsdd.de/mc-events/gablingen/
METHOD:PUBLISH
END:VEVENT
END:VCALENDAR