BEGIN:VCALENDAR
VERSION:2.0
PRODID:spatie/icalendar-generator
DESCRIPTION:Veranstaltungen von Radsport Dinkelscherben e.V.
X-WR-CALDESC:Veranstaltungen von Radsport Dinkelscherben e.V.
REFRESH-INTERVAL;VALUE=DURATION:PT1440M
X-PUBLISHED-TTL:PT1440M
BEGIN:VTIMEZONE
TZID:Etc/GMT-1
BEGIN:STANDARD
DTSTART:20240922T000000Z
TZOFFSETFROM:+0100
TZOFFSETTO:+0100
END:STANDARD
END:VTIMEZONE
BEGIN:VTIMEZONE
TZID:UTC
BEGIN:STANDARD
DTSTART:20250728T220000Z
TZOFFSETFROM:+0000
TZOFFSETTO:+0000
END:STANDARD
END:VTIMEZONE
BEGIN:VEVENT
UID:239-59
DTSTAMP:20260424T220000Z
SUMMARY:Giro Fuschl am See
LOCATION:
ORGANIZER;CN=RSDD:MAILTO:joachim@rsdd.de
DTSTART;TZID=Etc/GMT-1;VALUE=DATE:20250619
DTEND;TZID=Etc/GMT-1;VALUE=DATE:20250623
X-ALT-DESC;FMTTYPE=TEXT/HTML:&amp;nbsp\; Wir sind gerade in Fuschl am See zu un
 serem Rennrad Giro - daher finden keine Trainingsfahren statt. &amp;nbsp\;
CATEGORIES:Rennrad Training
URL;VALUE=URI:https://rsdd.de/mc-events/giro-fuschl-am-see/
METHOD:PUBLISH
END:VEVENT
END:VCALENDAR