BEGIN:VCALENDAR
VERSION:2.0
PRODID:spatie/icalendar-generator
DESCRIPTION:Veranstaltungen von Radsport Dinkelscherben e.V.
X-WR-CALDESC:Veranstaltungen von Radsport Dinkelscherben e.V.
REFRESH-INTERVAL;VALUE=DURATION:PT1440M
X-PUBLISHED-TTL:PT1440M
BEGIN:VTIMEZONE
TZID:Etc/GMT-1
BEGIN:STANDARD
DTSTART:20250907T000000Z
TZOFFSETFROM:+0100
TZOFFSETTO:+0100
END:STANDARD
END:VTIMEZONE
BEGIN:VTIMEZONE
TZID:UTC
BEGIN:STANDARD
DTSTART:20250726T184440Z
TZOFFSETFROM:+0000
TZOFFSETTO:+0000
END:STANDARD
END:VTIMEZONE
BEGIN:VEVENT
UID:283-67
DTSTAMP:20260422T184440Z
SUMMARY:Giro
LOCATION:
ORGANIZER;CN=RSDD:MAILTO:joachim@rsdd.de
DTSTART;TZID=Etc/GMT-1;VALUE=DATE:20260604
DTEND;TZID=Etc/GMT-1;VALUE=DATE:20260608
X-ALT-DESC;FMTTYPE=TEXT/HTML:Wir sind auf unserem Rennrad-Giro. Daher finde
 t hier kein Training statt.
CATEGORIES:Rennrad Training
URL;VALUE=URI:https://rsdd.de/mc-events/giro/
METHOD:PUBLISH
END:VEVENT
END:VCALENDAR