BEGIN:VCALENDAR
VERSION:2.0
PRODID:spatie/icalendar-generator
DESCRIPTION:Veranstaltungen von Radsport Dinkelscherben e.V.
X-WR-CALDESC:Veranstaltungen von Radsport Dinkelscherben e.V.
REFRESH-INTERVAL;VALUE=DURATION:PT1440M
X-PUBLISHED-TTL:PT1440M
BEGIN:VTIMEZONE
TZID:Etc/GMT-1
BEGIN:STANDARD
DTSTART:20251104T000000Z
TZOFFSETFROM:+0100
TZOFFSETTO:+0100
END:STANDARD
END:VTIMEZONE
BEGIN:VTIMEZONE
TZID:UTC
BEGIN:STANDARD
DTSTART:20250727T182257Z
TZOFFSETFROM:+0000
TZOFFSETTO:+0000
END:STANDARD
END:VTIMEZONE
BEGIN:VEVENT
UID:293-11
DTSTAMP:20260423T182257Z
SUMMARY:langes Training
LOCATION:
ORGANIZER;CN=RSDD:MAILTO:joachim@rsdd.de
DTSTART;TZID=Etc/GMT-1;VALUE=DATE:20260801
DTEND;TZID=Etc/GMT-1;VALUE=DATE:20260802
X-ALT-DESC;FMTTYPE=TEXT/HTML:-- Strecke wird kurzfristig auf unserer Homepa
 ge bekannt gegeben --
CATEGORIES:Rennrad Training
URL;VALUE=URI:https://rsdd.de/mc-events/langes-training/
METHOD:PUBLISH
END:VEVENT
END:VCALENDAR