BEGIN:VCALENDAR
VERSION:2.0
PRODID:spatie/icalendar-generator
DESCRIPTION:Veranstaltungen von Radsport Dinkelscherben e.V.
X-WR-CALDESC:Veranstaltungen von Radsport Dinkelscherben e.V.
REFRESH-INTERVAL;VALUE=DURATION:PT1440M
X-PUBLISHED-TTL:PT1440M
BEGIN:VTIMEZONE
TZID:Etc/GMT-1
BEGIN:STANDARD
DTSTART:20251014T000000Z
TZOFFSETFROM:+0100
TZOFFSETTO:+0100
END:STANDARD
END:VTIMEZONE
BEGIN:VTIMEZONE
TZID:UTC
BEGIN:STANDARD
DTSTART:20250727T101456Z
TZOFFSETFROM:+0000
TZOFFSETTO:+0000
END:STANDARD
END:VTIMEZONE
BEGIN:VEVENT
UID:296-24
DTSTAMP:20260423T101456Z
SUMMARY:Loppenhausen
LOCATION:
ORGANIZER;CN=RSDD:MAILTO:joachim@rsdd.de
DTSTART;TZID=Etc/GMT-1;VALUE=DATE:20260711
DTEND;TZID=Etc/GMT-1;VALUE=DATE:20260712
X-ALT-DESC;FMTTYPE=TEXT/HTML:Download GPX
CATEGORIES:Rennrad Training
URL;VALUE=URI:https://rsdd.de/mc-events/loppenhausen/
METHOD:PUBLISH
END:VEVENT
END:VCALENDAR