BEGIN:VCALENDAR
VERSION:2.0
PRODID:spatie/icalendar-generator
DESCRIPTION:Veranstaltungen von Radsport Dinkelscherben e.V.
X-WR-CALDESC:Veranstaltungen von Radsport Dinkelscherben e.V.
REFRESH-INTERVAL;VALUE=DURATION:PT1440M
X-PUBLISHED-TTL:PT1440M
BEGIN:VTIMEZONE
TZID:Etc/GMT-1
BEGIN:STANDARD
DTSTART:20251125T000000Z
TZOFFSETFROM:+0100
TZOFFSETTO:+0100
END:STANDARD
END:VTIMEZONE
BEGIN:VTIMEZONE
TZID:UTC
BEGIN:STANDARD
DTSTART:20250728T052406Z
TZOFFSETFROM:+0000
TZOFFSETTO:+0000
END:STANDARD
END:VTIMEZONE
BEGIN:VEVENT
UID:310-68
DTSTAMP:20260424T052406Z
SUMMARY:Sommerfest
LOCATION:
ORGANIZER;CN=RSDD:MAILTO:joachim@rsdd.de
DTSTART;TZID=Etc/GMT-1;VALUE=DATE:20260822
DTEND;TZID=Etc/GMT-1;VALUE=DATE:20260823
X-ALT-DESC;FMTTYPE=TEXT/HTML:Wir sparen uns heute unsere Kräfte für das S
 ommerfest am Abend und lassen das Training ausfallen.
CATEGORIES:Rennrad Training
URL;VALUE=URI:https://rsdd.de/mc-events/sommerfest-2/
METHOD:PUBLISH
END:VEVENT
END:VCALENDAR